BEGIN:VCALENDAR
VERSION:2.0
PRODID:-//SKI Official site for kendo, iaido and jodo in Switzerland - ECPv6.15.20//NONSGML v1.0//EN
CALSCALE:GREGORIAN
METHOD:PUBLISH
X-ORIGINAL-URL:https://kendo.ch
X-WR-CALDESC:Veranstaltungen für SKI Official site for kendo, iaido and jodo in Switzerland
REFRESH-INTERVAL;VALUE=DURATION:PT1H
X-Robots-Tag:noindex
X-PUBLISHED-TTL:PT1H
BEGIN:VTIMEZONE
TZID:Europe/Berlin
BEGIN:DAYLIGHT
TZOFFSETFROM:+0100
TZOFFSETTO:+0200
TZNAME:CEST
DTSTART:20250330T010000
END:DAYLIGHT
BEGIN:STANDARD
TZOFFSETFROM:+0200
TZOFFSETTO:+0100
TZNAME:CET
DTSTART:20251026T010000
END:STANDARD
BEGIN:DAYLIGHT
TZOFFSETFROM:+0100
TZOFFSETTO:+0200
TZNAME:CEST
DTSTART:20260329T010000
END:DAYLIGHT
BEGIN:STANDARD
TZOFFSETFROM:+0200
TZOFFSETTO:+0100
TZNAME:CET
DTSTART:20261025T010000
END:STANDARD
BEGIN:DAYLIGHT
TZOFFSETFROM:+0100
TZOFFSETTO:+0200
TZNAME:CEST
DTSTART:20270328T010000
END:DAYLIGHT
BEGIN:STANDARD
TZOFFSETFROM:+0200
TZOFFSETTO:+0100
TZNAME:CET
DTSTART:20271031T010000
END:STANDARD
END:VTIMEZONE
BEGIN:VEVENT
DTSTART;VALUE=DATE:20261024
DTEND;VALUE=DATE:20261026
DTSTAMP:20260421T230947
CREATED:20260212T174120Z
LAST-MODIFIED:20260212T174120Z
UID:3214-1792800000-1792972799@kendo.ch
SUMMARY:50. Schweizermeisterschaften Kendo / 50ièmes championnats Suisse de Kendo
DESCRIPTION:Am 24. & 25. Oktober 2026 finden die 50. Kendo Schweizermeisterschaften in Bern / Zolikofen statt.\nEin besonderer Event der besondere Aufmerksamkeit erhält. \nReserviere Dir bereits heute das Datum und sei Teil dieses geschichtsträchtigen Events. \nEs erwartet dich neben spannenden Kämpfen\, eine tolle Stimmung\, auch etwas Nostalgie. \nSwiss Kendo Iaido würdigt diesen besonderen Meilenstein und bietet den Teilnehmenden neben spannenden Wettkämpfen auch exklusive Einblicke in die Geschichte des Kendos in der Schweiz. \nSchon bald kannst Du Dich dazu anmelden. \n \n  \n  \n  \n  \n  \n\nLes 24 et 25 octobre 2026 auront lieu les 50es Championnats suisses de kendo à Berne/Zollikofen.\nUn événement exceptionnel qui mérite une attention toute particulière. \nRéserve d’ores et déjà ces dates et fais partie de cet événement historique. \nOutre des combats passionnants et une ambiance formidable\, une touche de nostalgie t’attend également. \nSwiss Kendo Iaido célèbre cette étape importante et offre aux participantes et participants\, en plus de compétitions de haut niveau\, un regard exclusif sur l’histoire du kendo en Suisse. \nTu pourras bientôt t’y inscrire.
URL:https://kendo.ch/event/50-schweizermeisterschaften-kendo-50iemes-championnats-suisse-de-kendo/
LOCATION:Sporthalle Geisshubel Zolikofen\, Alpenstrasse 74\, Zolikofen\, Bern\, 3052\, Schweiz
CATEGORIES:CH-Competition,Championship,Kendo,Taikai
ATTACH;FMTTYPE=image/png:https://kendo.ch/wp-content/uploads/2026/02/ChatGPT-Image-12.-Feb.-2026-18_28_48.png
ORGANIZER;CN="Swiss Kendo + Iaido":MAILTO:info@kendo.ch
END:VEVENT
BEGIN:VEVENT
DTSTART;VALUE=DATE:20261205
DTEND;VALUE=DATE:20261206
DTSTAMP:20260421T230947
CREATED:20251002T123913Z
LAST-MODIFIED:20260203T165306Z
UID:3085-1796428800-1796515199@kendo.ch
SUMMARY:Iaido Jahresabschlussseminar mit Prüfungen
DESCRIPTION:Mehr Informationen folgen einige Monate vor dem Seminar
URL:https://kendo.ch/event/iaido-jahresabschlussseminar-2026-12-05/
LOCATION:6010
CATEGORIES:Grading,Iaido,Seminar
END:VEVENT
BEGIN:VEVENT
DTSTART;VALUE=DATE:20261206
DTEND;VALUE=DATE:20261207
DTSTAMP:20260421T230947
CREATED:20251002T124004Z
LAST-MODIFIED:20260203T165254Z
UID:3087-1796515200-1796601599@kendo.ch
SUMMARY:Jodo Jahresabschlussseminar mit Prüfungen
DESCRIPTION:Mehr Informationen folgen einige Monate vor dem Seminar
URL:https://kendo.ch/event/jodo-jahresabschlussseminar-2026-12-06/
LOCATION:6010
CATEGORIES:Grading,Jodo,Seminar
END:VEVENT
BEGIN:VEVENT
DTSTART;TZID=Europe/Berlin:20261212T093000
DTEND;TZID=Europe/Berlin:20261212T163000
DTSTAMP:20260421T230947
CREATED:20260413T210325Z
LAST-MODIFIED:20260413T210325Z
UID:3297-1797067800-1797093000@kendo.ch
SUMMARY:Kendo – SKI – Gemeinschaftstraining / entraînement collectif
DESCRIPTION:Save the date \n\n12.12.2026: Turnhalle Wankdorf (Morgartenstrasse 2\, 3014 Bern)\, Uhrzeit 9h30 – 16h30
URL:https://kendo.ch/event/kendo-ski-gemeinschaftstraining-entrainement-collectif-2/
LOCATION:Sekundarschule Wankdorf\, Morgartenstrasse 2\, Bern\, 3014\, Schweiz
CATEGORIES:Kendo,Seminar
ATTACH;FMTTYPE=image/jpeg:https://kendo.ch/wp-content/uploads/2024/12/24286439306_6ea6bfd7f5_b.jpg
ORGANIZER;CN="Swiss Kendo + Iaido":MAILTO:info@kendo.ch
END:VEVENT
END:VCALENDAR