BEGIN:VCALENDAR
VERSION:2.0
PRODID:-//SKI Official site for kendo, iaido and jodo in Switzerland - ECPv6.15.20//NONSGML v1.0//EN
CALSCALE:GREGORIAN
METHOD:PUBLISH
X-WR-CALNAME:SKI Official site for kendo, iaido and jodo in Switzerland
X-ORIGINAL-URL:https://kendo.ch
X-WR-CALDESC:Veranstaltungen für SKI Official site for kendo, iaido and jodo in Switzerland
REFRESH-INTERVAL;VALUE=DURATION:PT1H
X-Robots-Tag:noindex
X-PUBLISHED-TTL:PT1H
BEGIN:VTIMEZONE
TZID:Europe/Berlin
BEGIN:DAYLIGHT
TZOFFSETFROM:+0100
TZOFFSETTO:+0200
TZNAME:CEST
DTSTART:20170326T010000
END:DAYLIGHT
BEGIN:STANDARD
TZOFFSETFROM:+0200
TZOFFSETTO:+0100
TZNAME:CET
DTSTART:20171029T010000
END:STANDARD
BEGIN:DAYLIGHT
TZOFFSETFROM:+0100
TZOFFSETTO:+0200
TZNAME:CEST
DTSTART:20180325T010000
END:DAYLIGHT
BEGIN:STANDARD
TZOFFSETFROM:+0200
TZOFFSETTO:+0100
TZNAME:CET
DTSTART:20181028T010000
END:STANDARD
BEGIN:DAYLIGHT
TZOFFSETFROM:+0100
TZOFFSETTO:+0200
TZNAME:CEST
DTSTART:20190331T010000
END:DAYLIGHT
BEGIN:STANDARD
TZOFFSETFROM:+0200
TZOFFSETTO:+0100
TZNAME:CET
DTSTART:20191027T010000
END:STANDARD
END:VTIMEZONE
BEGIN:VEVENT
DTSTART;TZID=Europe/Berlin:20180310T093000
DTEND;TZID=Europe/Berlin:20180311T170000
DTSTAMP:20260421T181506
CREATED:20180201T152811Z
LAST-MODIFIED:20180523T205212Z
UID:256-1520674200-1520787600@kendo.ch
SUMMARY:Iaido Schweizermeisterschaften 2018
DESCRIPTION:Einladung zur 12. Iaido Schweizermeisterschaft 10. / 11. März 2018 \nSporthalle Sagi | Dorfzentrum | Sennhüttenstrasse 24 | 8542 Wiesendangen \n  \nSamstag 10. März 2018: \n08.30 Uhr             Hallenöffnung \n09:30 Uhr             Open Iaido Seminar für alle \n12:30 Uhr             Mittagessen \n14:00 Uhr             Open Iaido Seminar für alle \n17:00 Uhr             Abschluss Seminar \n19:00 Uhr             Gemeinsames Nachtessen (Anmeldung auf dem Internetformular) \n  \nSonntag 11. März 2018: \n08.00 Uhr             Hallenöffnung \n09.00 Uhr             Einzel-Wettkämpfe Pool und KO inkl. Halbfinals \n12.00 Uhr             (ca.) Finals und Siegerehrung Einzel \n12.30 Uhr             (ca.) Mittagessen \n13.30 Uhr             (ca.) Team-Wettkämpfe \n16.30 Uhr             (ca.) Siegerehrung \n17:00 Uhr             Abschluss \n18.00 Uhr             Hallenschliessung \n  \nAdresse: \nSporthalle Sagi | Dorfzentrum | Sennhüttenstrasse 24 | 8542 Wiesendangen b. Winterthur \nVerpflegung: \nIst via folgendes Internet-Formular zu bestellen und ist vor Ort zu Bezahlen. \n  \nKategorien: \nEinzel: \nKyu: (Clubgrad -3. Kyu)\, Mudan: (Verbandsgrad 1./ 2. Kyu)\, Shodan\, Nidan\, Sandan\, Yondan und Godan \n  \nTeam: \nDrei Iaidoka aus dem gleichen Club (max. ein 3. Dan pro Team\, bei nur zwei Iaidoka in einem Team geht der zweite Kampf verloren). Erlaubt sind zwei Teams pro Dojo. Ein Iaidoka kann nur für ein Team starten. \n  \nSchiedsrichter: \nRené van Amersfoort (7. Dan Kyoshi\, Niederlande) Nicola Casamassima (6. Dan Renshi\, Schweiz)\,\nStefano Ferro (6. Dan\, Schweiz) sowie die 5. Dan-Träger und ev. 4. Dan-Träger. \n  \nAnmeldung: \nEinzel via Internet Formular: https://goo.gl/forms/PTEAUhSCbJels7td2 bis spätestens 23. Februar 2018. \n  \nTeilnameberechtigung: \nAlle Iaidoka\, welche die Swiss Kendo + Iaido Jahreslizenz 2018 bezahlt haben. Es werden alle SJV Pässe vor Beginn des Samstags-Seminars kontrolliert. Bitte SJV Pass nicht vergessen. Eine Kontrolle wird durchgeführt und die 2018 Lizenz-Marken werden verteilt. \n  \nSeminarkosten und Startgeld: \nSamstag Iaido Seminar \nFr. 40.00; Für alle Teilnehmenden. \n  \nStartgeld für die Schweizermeisterschaften \nFr. 40.00 pro Person im Einzel\, Fr. 40.00 pro Team \n  \nDie Start- und Seminarkosten sind bis 1. März 2018 auf das Konto des Swiss Kendo + Iaido zu überweisen\, Seminar-Besucher können vor Ort bezahlen. \n  \nÜbernachtung \nAls Übernachtungsmöglichkeiten bieten sich die folgenden Hotels an: \n\nIn Wiesendangen Gasthof Storchen http://www.gasthof-storchen.ch (findet auch Nachtessen am Samstag statt)\nIn Winterthur:\n\nHotel Ibis und Ibis Budget: https://secure.ibis.com/store/index.html#/de/hotels?q=Winterthur\,Schweiz&dateIn=&children=&nights=&adults=1&domainId=www.ibis.com\nPark Hotel https://phwin.ch/de\nWeitere Hotels auf Google oder Booking.com zu finden\n\n\nRäterschen (Nähe Wiesendangen) http://sternen-raeterschen.ch/\n\n  \nWeitere Informationen: \nFür weitere Informationen zu Iaido Schweizermeisterschaft oder Seminar\, bitte schriftlich via E-Mail turniere@kendo.ch oder per Telefon an Roger Fleury\, Verantwortlich für Verbandsturniere Iaido & Jodo \n(Tel. +41 79 415 60 89). \n  \nZahlungsadresse \nIBAN: CH 46 8069 8000 0142 0208 4 \nSIC BC Number: 80698 \nSwift-BIC: RAIFCH22 \nRaiffeisenbank Aarau-Lenzburg \n  \nSwiss Kendo + Iaido \nStéphane Tomo Jud \nGirixweg 44 \n5000 Aarau \n  \nZahlungsvermerk «Iaido SM 2018» \n  \nWICHTIG: \nDer Veranstalter übernimmt keinerlei Haftung. \nMit Teilnahme an dieser Veranstaltung erklärt jeder Teilnehmer/ jede Teilnehmerin explizit sein/ ihr Einverständnis\, dass Bilder und Videos von ihm/ ihr in allen Medien\, auch dem Internet\, veröffentlicht werden können.
URL:https://kendo.ch/event/iaido-schweizermeisterschaften-2018/
LOCATION:Sporthalle Wiesendangen\, Sennhüttenstrasse 24\, Wiesendangen\, 8542\, Schweiz
CATEGORIES:Iaido,Schweizermeisterschaften
ATTACH;FMTTYPE=image/jpeg:https://kendo.ch/wp-content/uploads/2018/03/iaidosm2018_header.jpg
ORGANIZER;CN="KENSEN Iaido Winterthur":MAILTO:martin-koenig@gmx.ch
END:VEVENT
BEGIN:VEVENT
DTSTART;VALUE=DATE:20180317
DTEND;VALUE=DATE:20180319
DTSTAMP:20260421T181506
CREATED:20180201T132453Z
LAST-MODIFIED:20180303T102950Z
UID:271-1521244800-1521417599@kendo.ch
SUMMARY:Basiliskcup 2018
DESCRIPTION:Liebe Kendokas \nDie Registrierung für den Basilisk Cup 2018 vom 17./18. März ist eröffnet!\nBitte meldet euch bis am Sonntag\, den 11. März über dieses Formular an: https://www.basiliskcup.ch/de/anmeldung-2018/ \nSamstag\, 17. März 2017\nKidsturnier: >=2003 – bei genügend Anmeldungen werden alterspezifische Tableaus geführt\nTeamwettkampf: 5 Kämpfer\, empfohlen <= 2003\nBeginn: 11:00 Uhr\, Halle öffnet um 10:00 Uhr \nAm Abend werden wir gemeinsam essen gehen\, bitte meldet euch dafür an.\nShimpan (>3. Dan)\, welche nicht mitkämpfen und externe Helfer laden wir gerne zum Nachtessen ein. \nSonntag\, 18. März 2017\nEinzelwettkämpfe (Mixed Kyu/Ladies/Mixed Dan) – Beginn: 09:00\nDojo öffnet um 08:00 \nKosten:\nKinderturnier = CHF 5.-/EUR 4.50\nnur Team = CHF 10.-/EUR 9\nnur Open/Ladies (inkl. Lunchpaket) = CHF 25.-/EUR 23\nTeam & Open/Ladies (inkl. Lunchpaket am Sonntag)= CHF 30.-/EUR 27\nBezahlt wird bei der Anmeldung vor Ort. \nShimpan & Helfer:\nBitte hier anmelden: https://www.basiliskcup.ch/de/shimpan-helfer/ \nWir freuen uns auf ein tolles Turnier! Bitte an weitere interessierte Kendokas weiterleiten!
URL:https://kendo.ch/event/basiliskcup-2018/
LOCATION:Sporthalle Margarethen\, Gempenstrasse 48\, Basel\, 4053\, Schweiz
CATEGORIES:Kendo
ATTACH;FMTTYPE=image/jpeg:https://kendo.ch/wp-content/uploads/2018/03/BCAnnounce2018_head-1.jpg
END:VEVENT
END:VCALENDAR