BEGIN:VCALENDAR
VERSION:2.0
PRODID:-//SKI Official site for kendo, iaido and jodo in Switzerland - ECPv6.15.20//NONSGML v1.0//EN
CALSCALE:GREGORIAN
METHOD:PUBLISH
X-ORIGINAL-URL:https://kendo.ch
X-WR-CALDESC:Veranstaltungen für SKI Official site for kendo, iaido and jodo in Switzerland
REFRESH-INTERVAL;VALUE=DURATION:PT1H
X-Robots-Tag:noindex
X-PUBLISHED-TTL:PT1H
BEGIN:VTIMEZONE
TZID:Europe/Berlin
BEGIN:DAYLIGHT
TZOFFSETFROM:+0100
TZOFFSETTO:+0200
TZNAME:CEST
DTSTART:20170326T010000
END:DAYLIGHT
BEGIN:STANDARD
TZOFFSETFROM:+0200
TZOFFSETTO:+0100
TZNAME:CET
DTSTART:20171029T010000
END:STANDARD
BEGIN:DAYLIGHT
TZOFFSETFROM:+0100
TZOFFSETTO:+0200
TZNAME:CEST
DTSTART:20180325T010000
END:DAYLIGHT
BEGIN:STANDARD
TZOFFSETFROM:+0200
TZOFFSETTO:+0100
TZNAME:CET
DTSTART:20181028T010000
END:STANDARD
BEGIN:DAYLIGHT
TZOFFSETFROM:+0100
TZOFFSETTO:+0200
TZNAME:CEST
DTSTART:20190331T010000
END:DAYLIGHT
BEGIN:STANDARD
TZOFFSETFROM:+0200
TZOFFSETTO:+0100
TZNAME:CET
DTSTART:20191027T010000
END:STANDARD
END:VTIMEZONE
BEGIN:VEVENT
DTSTART;TZID=Europe/Berlin:20180405T090000
DTEND;TZID=Europe/Berlin:20180408T150000
DTSTAMP:20260421T163843
CREATED:20180201T134101Z
LAST-MODIFIED:20180303T102934Z
UID:275-1522918800-1523199600@kendo.ch
SUMMARY:Jodo Seminar\, Swiss Open Jodo Meisterschaften und Iaido Seminar
DESCRIPTION:2018 Magglingen Jodo Seminar\, Jodo Referee Seminar\, Swiss Open Jodo Taikai + Gradings plus Iaido Seminar + Gradings with \nRené van Amersfoort 7th Dan Iaido Kyoshi\, 8th Dan Jodo Kyoshi \nJock Hopson 7th Dan Iaido Kyoshi\, 7th Dan Jodo Kyoshi \nAad van de Wijngaart 7th Dan Iaido Kyoshi\, 7th Dan Jodo Renshi \nTakao Momiyama 7th Dan Iaido Renshi\, 7th Dan Jodo Renshi \nKarl Dannecker 6th Dan Iaido Renshi\, 7th Dan Jodo Renshi \nDanielle Borra 7th Dan Iaido Kyoshi \nJef Heuvelmans 7th Dan Jodo Renshi \nPhilippe Merlier 7th Dan Iaido Renshi \nHenry Schubert 6th Dan Iaido Renshi \nClaudio Zanoni 6th Dan Iaido Renshi \nNicola Casamassima 6th Dan Iaido Renshi \nStefano Ferro 6th Dan Iaido \n  \nWhere:  Toto Sports Hall\, BASPO Sports-Center\, Hohmattstrasse\, 2532 Magglingen\, Biel\, Switzerland \n  \nProgramme\, 5th to 8th April 2018 \nThursday 5th April:     09:00 – 17:30 Jodo Seminar \nFriday 6th April:         09:00 – 17:30 Jodo Seminar\, Jodo Referee Seminar\, Swiss Open Jodo Taikai and gradings up to 5th Dan \nSaturday 7th April:     09:00 – 17:30 Iaido Seminar and gradings up to 5th Dan \nSunday 8th April:        09:00 – 15:00 Iaido Seminar \n  \nSeminar fees \nJodo or Iaido:                                        40.00 SFr / 34.00 € per day \nComplete seminar Jodo and Iaido:      140.00 SFr / 120.00 € (4 full days) \n  \nAccommodation \nBella Vista Hotel\, 1\, 2 and 3 person rooms: 30.00 SFr / 25.00 € per person per night. \nSwiss Olympic Hotel\, 1 or 2 person rooms: 60.00 SFr / 50.00 € per person per night. \nThe quantity of places are limited so please register early. \n  \nMeals \nBreakfast:              12.00 SFr / 10.00 € per person per meal \nMidday lunch:        15.00 SFr / 13.00 € per person per meal \nEvening meal:        15.00 SFr / 13.00 € per person per meal \n  \nGrading fees (grading fee + registration costs) \n2nd Kyu (Iaido):                 20.00 + 20.00 SFr / 17.00 + 17.00 € \n1st Kyu (Jodo or Iaido):    20.00 + 30.00 SFr / 17.00 + 25.00 € \n1st Dan (Jodo or Iaido):    30.00 + 40.00 SFr / 25.00 + 34.00 € \n2nd Dan (Jodo or Iaido):   40.00 + 50.00 SFr / 34.00 + 42.00 € \n3rd Dan (Jodo or Iaido):   50.00 + 60.00 SFr / 42.00 + 50.00 € \n4th Dan (Jodo or Iaido):    60.00 + 90.00 SFr / 50.00 + 76.00 € \n5th Dan (Iaido or Jodo):    90.00 + 130.00 SFr / 76.00 + 110.00 € \n  \nGrading registration deadline :  26th March 2018. \n  \nInscription \nPlease register on this Google Form\, I will then confirm your details and the total amount you need to pay.  Here is the link: \nhttps://goo.gl/forms/GAhNfFiLjIckI5tz1 \nIf you have any problems with this form or any questions please contact me on matthewsykesgelder@gmail.com or +41 79 258 3752. \n  \nPayment details (all costs to be paid by 31.03.2018) \nIBAN: CH 46 8069 8000 0142 0208 4             Swiss Kendo + Iaido \nSIC BC Number: 80698                                    Raiffeisenbank Aarau-Lenzburg \nSwift-BIC: RAIFCH22                                       Stéphane Tomo Jud \nGirixweg 44 \n5000 Aarau \n  \nCancellations \nCancellations must be announced by email or telephone to (matthewsykesgelder@gmail.com or + 41 79 258 3752) by 4th April 2018 for a full refund. If you do not cancel or do not attend the seminar\, no refund will be made. \n  \nWe look forward to seeing you in Magglingen. \nBest regards\, \nMatthew
URL:https://kendo.ch/event/jodo-seminar-swiss-open-jodo-meisterschaften-und-iaido-seminar/
LOCATION:Toto Sports Hall\, Hohmattstrasse\, Magglingen\, 2532
CATEGORIES:Jodo,Seminar
ORGANIZER;CN="Swiss Kendo + Iaido":MAILTO:info@kendo.ch
END:VEVENT
BEGIN:VEVENT
DTSTART;TZID=Europe/Berlin:20180421T130000
DTEND;TZID=Europe/Berlin:20180422T140000
DTSTAMP:20260421T163843
CREATED:20180405T150727Z
LAST-MODIFIED:20180405T151519Z
UID:578-1524315600-1524405600@kendo.ch
SUMMARY:Jodo-Seminar und offene Deutsche Jodo-Meisterschaft 2018
DESCRIPTION:Veranstalter: DJodoB\nAusrichter: Aikido Yoshinkan e.V.\nAdresse: Städtische Schulsporthalle Elisabeth-Kohn-Str. 4 80797 München \n\nSa. 21.04.2018 13.00 – 17:30 Uhr\, Wettkampfrichterausbildung\,\nEinzelmeisterschaft\nSo. 22.04.2018 10:00 – 14:00 Uhr\, Paar- und Teamwettkämpfe\n\nLehrer: Louis Vitalis\, 7. Dan Jodo Kyoshi\nMitzubringen: Jo und Bokto\nMeisterschaft: Mu-Dan bis Go-Dan \nKosten: 30 Euro für Seminar und Meisterschaft \nAnmeldung bis 13.04.2018 an wettkampf@djodob.de \nHaftung wird nicht übernommen !!\nHotelvorschläge HRS\, Booking.com \nIch wünsche allen eine gute Anreise\nCenet Bauer \nAlle Informationen nochmals in PDF- Form
URL:https://kendo.ch/event/jodo-seminar-und-offene-deutsche-jodo-meisterschaft-2018/
LOCATION:Städtische Schulsporthalle\, Elisabeth-Kohn-Str. 4\, München\, 80797\, Deutschland
CATEGORIES:Jodo,Seminar
ORGANIZER;CN="Deutscher Jodo Bund e.V.":MAILTO:info@djodob.de
END:VEVENT
END:VCALENDAR