BEGIN:VCALENDAR
VERSION:2.0
PRODID:-//SKI Official site for kendo, iaido and jodo in Switzerland - ECPv6.15.20//NONSGML v1.0//EN
CALSCALE:GREGORIAN
METHOD:PUBLISH
X-ORIGINAL-URL:https://kendo.ch
X-WR-CALDESC:Veranstaltungen für SKI Official site for kendo, iaido and jodo in Switzerland
REFRESH-INTERVAL;VALUE=DURATION:PT1H
X-Robots-Tag:noindex
X-PUBLISHED-TTL:PT1H
BEGIN:VTIMEZONE
TZID:Europe/Berlin
BEGIN:DAYLIGHT
TZOFFSETFROM:+0100
TZOFFSETTO:+0200
TZNAME:CEST
DTSTART:20170326T010000
END:DAYLIGHT
BEGIN:STANDARD
TZOFFSETFROM:+0200
TZOFFSETTO:+0100
TZNAME:CET
DTSTART:20171029T010000
END:STANDARD
BEGIN:DAYLIGHT
TZOFFSETFROM:+0100
TZOFFSETTO:+0200
TZNAME:CEST
DTSTART:20180325T010000
END:DAYLIGHT
BEGIN:STANDARD
TZOFFSETFROM:+0200
TZOFFSETTO:+0100
TZNAME:CET
DTSTART:20181028T010000
END:STANDARD
BEGIN:DAYLIGHT
TZOFFSETFROM:+0100
TZOFFSETTO:+0200
TZNAME:CEST
DTSTART:20190331T010000
END:DAYLIGHT
BEGIN:STANDARD
TZOFFSETFROM:+0200
TZOFFSETTO:+0100
TZNAME:CET
DTSTART:20191027T010000
END:STANDARD
END:VTIMEZONE
BEGIN:VEVENT
DTSTART;TZID=Europe/Berlin:20180505T100000
DTEND;TZID=Europe/Berlin:20180505T160000
DTSTAMP:20260421T143752
CREATED:20180405T153430Z
LAST-MODIFIED:20180405T174836Z
UID:588-1525514400-1525536000@kendo.ch
SUMMARY:Jodo Seminar mit Bruno Lehmann Sensei
DESCRIPTION:Wann: Samstag 05. Mai 2018 \nWo: Sakura Dojo\, Zentweg 17c\, 3006 Bern (1er Obergeschoss) \nZeitplan: 10:00 bis ca 16:00 Uhr \nKosten: Gratis \nTeilnehmer:\nAlle Jodokas von Anfänger bis Fortgeschrittenen.\nHauptthemen sind Sotai Doza und die höheren Seitei Katas für Anfänger. \nOrganisation: Sakura Dojo\, Bern \nLeitung: Bruno Lehmann\, 5. Dan Jodo \nAnmeldungen: Via Google Form bitte : https://goo.gl/forms/f12C0UsQP4UM1vfg1 \nMittagessen: Bitte eure eigenes Mittagessen mitbringen. \nParkplätze\nAm Zentweg \nHaftung\nVersicherung ist Sache des Teilnehmers.\nDer Organisator übernimmt keinerlei Haftung
URL:https://kendo.ch/event/jodo-seminar-mit-bruno-lehmann-sensei/
LOCATION:Sakura Dojo\, Zentweg 17c\, Bern\, 3006\, Schweiz
CATEGORIES:Jodo,Seminar
ATTACH;FMTTYPE=image/jpeg:https://kendo.ch/wp-content/uploads/2018/04/e9b3fcb1-ae03-4466-ab3c-b291f74f21ee.jpg
END:VEVENT
BEGIN:VEVENT
DTSTART;TZID=Europe/Berlin:20180506T100000
DTEND;TZID=Europe/Berlin:20180506T163000
DTSTAMP:20260421T143752
CREATED:20180406T081046Z
LAST-MODIFIED:20180406T081627Z
UID:595-1525600800-1525624200@kendo.ch
SUMMARY:Iaido Seminar mit Stefano Ferro Sensei
DESCRIPTION:Ort\nFrohheim Schulhaus\, Frohheimweg 25 oder Bleichmattstrasse (mit dem Auto)\, 4600 Olten \nZeit\nSonntag 06. Mai 2018\, 10.00 – 16.30 \nLeitung\nStefano Ferro 6. Dan Iaido \nHalle Organisation\nKen Shin Kan\, Olten \nKosten\n1 Tag: 20\,- SFr \nTeilnehmer\nIaidokas von Anfänger bis Fortgeschrittene. Dieses Training wird eure Iaido Entwicklung und Vorbereitung helfen für eure nächste Prüfung. \nMittagessen\nEs gibt Kaffee und kalten Getränken zur Verfügung.\nBitte eure eigenes Mittagessen mitbringen. \nAnmeldung\nAlle Anmeldungen für das Training via dieser Google Formular bitte: \nhttps://goo.gl/forms/bW0EhWlgSTi3hBI63 \nVersicherung\, Unterkunft und Verpflegung sollte jeder selbst organisieren. \nParking\nMan kann direkt beim Schulhaus parkieren. Einfach bei Fahrverbot vorbei auf den Schulhausplatz fahren
URL:https://kendo.ch/event/iaido-seminar-mit-stefano-ferro-sensei/
LOCATION:Frohheimschulhaus\, Frohheimweg 26\, Olten\, 4600\, Schweiz
CATEGORIES:Iaido,Seminar
ATTACH;FMTTYPE=image/jpeg:https://kendo.ch/wp-content/uploads/2018/04/115f898c-acab-423d-9f70-57600178b871.jpg
ORGANIZER;CN="Swiss Kendo + Iaido":MAILTO:info@kendo.ch
END:VEVENT
BEGIN:VEVENT
DTSTART;TZID=Europe/Berlin:20180511T090000
DTEND;TZID=Europe/Berlin:20180513T150000
DTSTAMP:20260421T143752
CREATED:20180406T073452Z
LAST-MODIFIED:20180406T074749Z
UID:597-1526029200-1526223600@kendo.ch
SUMMARY:11th International Iaido Long Weekend Seminar and Taikai
DESCRIPTION:Dear Fellow Iaidoka\, \nWe are happy to invite you to our 11th International Iaido Long Weekend Seminar and Taikai\nincluding: \n\n1\,5 day of Koryu practice – Muso Shinden Ryu\, Tamiya Ryu\, Tosa Muso Jikiden Esihin Ryu\nZenken Iai practice\nOpen Iaido Taikai Individual and Team for 4th Dan and below\nDan grade exams up to 3rd. Dan\n\nInvited Instructors: \n\nVictor Cook sensei kyoshi 7. dan (Muso Shinden Ryu)\nPatrik Demuynck sensei renshi 7. dan (Tamiya Ryu)\nHunor Mihalik sensei renshi 7. dan (Tosa Muso Jikiden Esihin Ryu)\n\nLink of online registration: https://goo.gl/forms/gMnaRjkzT9mChym03 \nDeadline for registration online: 02nd of May 2018. Wednesday \nVENUE:\nVASAS SC. Sport ground at street Fay. http://static.panoramio.com/photos/large/84209408.jpg\nAddress: H-1139 Budapest Fáy u. 58.\nEntrance from Hajdú street\, see on map:\nhttps://www.google.hu/maps/@47.5383854\,19.079637\,3a\,75y\,137.88h\,81.95t/data=!3m9!1e1!3m7!1slP4e0RjrYiQDOVmdlewGwQ!2e0!7i13312!8i6656!9m2!1b1!2i47\nGPS: 47°32’17.9″N 19°04’46.8″E \nHow to get there:\nMetro M3 to Forgach station\nBus 105 or 120 to Frangepan station\nTram 14 to Fay station \nParking lots:\n200 HUF/h inside the gates (0-24)\n175 HUF/h on the streets (on weekdays from 8am to 6pm)\nOn the streets weekends are free. \nFood & Supplies:\nThe nearest spot is a Tesco Express one bloc away and\nthe sports-hall canteen will be also open. \nSEMINAR Fee: EUR 70/person for two days\nSEMINAR Daily Fee for Saturday: 40 EUR /person \nTAIKAI Fee:\nIndividual EUR 15/person\nTeam EUR 5/person \nAccommodation:\nBudget hotel: http://www.hotelflandria.hu/prices-and-offers.html\nPremium hotel: https://premiumapartman.hu/eng/rates/\nOr if you have different needs\, please see at www.booking.com you can narrow sown your search to 13d district.\nHowever if you wish to stay the same hotel as the Senseis contact us by email and we will send you the details. \nPayment on spot or by bank transfer:\nIBAN:HU25 1620 0216 1708 2408 0000 0000\nBIC/SWIFT:HBWEHUHB\nPlease make a note: „11th NYIT+your name or your club“ \nOpen Iaido Competition: 13th of May 2018* \n\nIndividual: 4. dan and below level\nTeam: Maximum 3 competitors/team where one out of the 3 competitors must be mudan level\, and all team members wear the same Zekken. This means anybody can form up a team as long as they wear the same Team name and Zekken.\n*Subject to change according to the number of attendees!\nExamination: 13th of May 2018 (Sunday) at 15:00 for 3. dan and below level\n\n\nRank: 1.Kyu exam fee: 10 EUR registration: 6 EUR success:16 EUR\nRank: 1.Dan exam fee: 16 EUR registration: 8 EUR success:24 EUR\nRank: 2.Dan exam fee: 24 EUR registration:10 EUR success:34 EUR\nRank: 3.Dan exam fee: 34 EUR registration:14 EUR success:48 EUR\n\nDetailed program*: \n11th of May\, 2018 – Friday\n12:00 – 13:00 Registration\n13:00 – 18:00 Koryu seminar \n12th of May\, 2018. – Saturday\n10:00 – 12:30 Koryu seminar\n12:30 – 13:30 Lunch brake\n13:30 – 15:00 Koryu seminar\n15:00 – 18:00 Zen Ken Seitei seminar \n13th of May\, 2018. – Sunday\n09:00 – 12:30 Iaido Taikai\n12:30 – 13:30 Lunch brake\n14:00 – 15:00 Iaido Taikai\n15:00 – 16:00 Examination up till 3.Dan \n*These schedules are subject to change! \nBank payment deadline: 7th of May\, 2018. Monday 18:00 CET \nHope to see you around! \nAny queries please write us an E-mail to: sg@kendo.hu or call the phone number: +36 20 460 2565
URL:https://kendo.ch/event/11th-international-iaido-long-weekend-seminar-and-taikai/
LOCATION:Vasas Sport Club\, Fáy u. 58\, Budapest\, 1139\, Ungarn
CATEGORIES:Grading,Iaido,Seminar,Taikai
ORGANIZER;CN="Hungarian Kendo%2C Iaido and Jodo Federation":MAILTO:office@kendo.hu
END:VEVENT
BEGIN:VEVENT
DTSTART;TZID=Europe/Berlin:20180519T093000
DTEND;TZID=Europe/Berlin:20180520T130000
DTSTAMP:20260421T143752
CREATED:20180406T075906Z
LAST-MODIFIED:20180406T075906Z
UID:609-1526722200-1526821200@kendo.ch
SUMMARY:Jodo Seminar in Bari
DESCRIPTION:TEACHER\nLouis Vitalis (7th dan Jodo kyoshi) \nWHAT\nKihon\, Seitei jo\, Koryu. \nWHERE\nPalamartino (aka GIL)\, via Napoli 260\, Bari. \nWHEN (TENTATIVE) \n\nMay 19th : 9.30 – 13.00; 14.30 – 18.00\nMay 20th: 9.30 – 13.00\n\nDETAILS\ndesk\, ask for “Corso Mazzini” or “Via Brigata Regina” or “via Napoli”. \nCONTACTS\nEmanuele Covino (3471961530\, emanuele.covino@uniba.it) TAXI 080 544 33 33
URL:https://kendo.ch/event/jodo-seminar-in-bari/
LOCATION:Impianto Sportivo Palamartino\, Via Napoli 260 ingresso struttura Via Anita Garibaldi\, Bari\, 70123\, Italien
ORGANIZER;CN="Confederazione Italiana Kendo":MAILTO:segreteria@kendo-cik.it
END:VEVENT
BEGIN:VEVENT
DTSTART;TZID=Europe/Berlin:20180519T130000
DTEND;TZID=Europe/Berlin:20180520T160000
DTSTAMP:20260421T143752
CREATED:20180406T080353Z
LAST-MODIFIED:20180516T115837Z
UID:611-1526734800-1526832000@kendo.ch
SUMMARY:Züri Cup 2018
DESCRIPTION:Budokan Zürich invites all Kendoka to take part in our annual tournament at the beautiful Lake Zurich. \nWHEN\nMay 19.-20. 2018 \nWHERE\nSporthalle Allmendli\nIm Allmendli 1\n8703 Erlenbach \nWHO\nteam shiai:\nkids team of 3 (U15)\nadults team of 5\nindividuals shiai:\nkids (U9\, U12\, U15)\nladies\nchallenger\nopen (2.dan and above) \nadults CHF 15.- per day\nkids CHF 5.- per day\novernight at the gym including breakfast CHF 10.-
URL:https://kendo.ch/event/zueri-cup-2018/
LOCATION:Sporthalle Allmendli\, Im Allmendli\, Erlenbach\, 8703
ATTACH;FMTTYPE=image/jpeg:https://kendo.ch/wp-content/uploads/2018/04/kendo.jpg
END:VEVENT
BEGIN:VEVENT
DTSTART;VALUE=DATE:20180526
DTEND;VALUE=DATE:20180527
DTSTAMP:20260421T143752
CREATED:20180406T084720Z
LAST-MODIFIED:20180406T085140Z
UID:631-1527292800-1527379199@kendo.ch
SUMMARY:Kendo Schiedsrichter Seminar
DESCRIPTION:Kendo Schiedsrichter Seminar\, 14 – 17 Uhr\, TH Wankdorf 1\, Morgartenstrasse\, Bern. \nMore information to follow soon.
URL:https://kendo.ch/event/kendo-schiedsrichter-seminar/
LOCATION:Schulhaus Wankdorf\, Morgartenstrasse 2\, Bern\, 3014\, Schweiz
CATEGORIES:Kendo,Seminar
ORGANIZER;CN="Swiss Kendo + Iaido":MAILTO:info@kendo.ch
END:VEVENT
BEGIN:VEVENT
DTSTART;VALUE=DATE:20180527
DTEND;VALUE=DATE:20180528
DTSTAMP:20260421T143752
CREATED:20180406T085358Z
LAST-MODIFIED:20180406T085524Z
UID:635-1527379200-1527465599@kendo.ch
SUMMARY:Kendo Bern Cup
DESCRIPTION:Kendo Bern Cup\, Kyu mit 1. Dan 9 -17 Uhr\, Kategorie Open und Damen\, TH Wankdorf 1 + 2\, Morgartenstrasse\, Bern \nMore information to follow soon.
URL:https://kendo.ch/event/kendo-bern-cup/
LOCATION:Schulhaus Wankdorf\, Morgartenstrasse 2\, Bern\, 3014\, Schweiz
CATEGORIES:Kendo
END:VEVENT
BEGIN:VEVENT
DTSTART;TZID=Europe/Berlin:20180531T090000
DTEND;TZID=Europe/Berlin:20180603T130000
DTSTAMP:20260421T143752
CREATED:20180317T133826Z
LAST-MODIFIED:20180405T150256Z
UID:561-1527757200-1528030800@kendo.ch
SUMMARY:Jodo- and Iaido-Seminar in VS-Schwenningen
DESCRIPTION:Deutscher Jodo Bund e.V.www.DJodoB.de \nTeacher\n\nKenichi Yoshimura\, Iaido Kyoshi 8. Dan\, Jodo Kyoshi 7. Dan\nKeiichi Shoji\, Iaido Kyoshi 7. Dan\, Jodo Kyoshi 8. Dan\n\nTeacher-Assistant\n\nJock Hopson\, Iaido Kyoshi 7. Dan\, Jodo Kyoshi 7. Dan\nLouis Vitalis\, Iaido Kyoshi 7. Dan\, Jodo Kyoshi 7. Dan\nRene van Amersfoort\, Iaido Kyoshi 7. Dan\, Jodo Kyoshi 8. Dan\nTakao Momiyama\, Iaido Renshi 7. Dan\, Jodo Renshi 7. Dan\n\nOrganizer\n\nKarate Dojo Villingen\nKarl Dannecker\, Iaido Renshi 6. Dan\, Jodo Renshi 7. Dan\n\nCity\, Street\nTurnhalle des Gymnasiums am Deutenberg Schwenningen\, Spittelstraße\, 78056 VS-Schwenningen \nJodo\n\n\n\n\n\nThursday\n31.05.2018\n09-18 Hrs (with Grading)\n\n\nFriday\n01.06.2018\n09-18 Hrs\n\n\n\n\n\nLesson\nZNKR (Seitei) – Jodo\, Shindo Muso Ryu \nIaido\n\n\n\n\nSaturday\n02.06.2018\n09-18 Hrs\n\n\nSunday\n03.06.2018\n09-13 Hrs\n\n\n\n\nLesson\nZNKR (Seitei) – Iaido\, Muso Shinden Ryu\, free practice for other Ryu \nCosts\n\nIaido = 60 Euro\nJodo = 60 Euro\nJodo + Iaido = 110 Euro\n\n×Note: Please come without sharp sword\, practice with Iaito!Please use Zekken with Roman Characters \nJodo Gradings up to 5. Dan\, see attached grading information \nLiability is not taken over!! \nRemark: the number of Iaido participants is limited!\nBooking with name and grade until 27.05.2018 sent to Karl Dannecker\, mail: Karl.Dannecker@t-online.de \nInformation on Jodo-Grading 1. Kyu – 5. Dan (PDF)
URL:https://kendo.ch/event/jodo-and-iaido-seminar-in-vs-schwenningen/
LOCATION:Sportzentrum am Deutenberg\, Spittelstraße\, Villingen-Schwenningen\, 78056\, Deutschland
CATEGORIES:Grading,Iaido,Jodo,Seminar
ORGANIZER;CN="Deutscher Jodo Bund e.V.":MAILTO:info@djodob.de
END:VEVENT
END:VCALENDAR