BEGIN:VCALENDAR
VERSION:2.0
PRODID:-//SKI Official site for kendo, iaido and jodo in Switzerland - ECPv6.15.20//NONSGML v1.0//EN
CALSCALE:GREGORIAN
METHOD:PUBLISH
X-WR-CALNAME:SKI Official site for kendo, iaido and jodo in Switzerland
X-ORIGINAL-URL:https://kendo.ch
X-WR-CALDESC:Veranstaltungen für SKI Official site for kendo, iaido and jodo in Switzerland
REFRESH-INTERVAL;VALUE=DURATION:PT1H
X-Robots-Tag:noindex
X-PUBLISHED-TTL:PT1H
BEGIN:VTIMEZONE
TZID:Europe/Berlin
BEGIN:DAYLIGHT
TZOFFSETFROM:+0100
TZOFFSETTO:+0200
TZNAME:CEST
DTSTART:20240331T010000
END:DAYLIGHT
BEGIN:STANDARD
TZOFFSETFROM:+0200
TZOFFSETTO:+0100
TZNAME:CET
DTSTART:20241027T010000
END:STANDARD
BEGIN:DAYLIGHT
TZOFFSETFROM:+0100
TZOFFSETTO:+0200
TZNAME:CEST
DTSTART:20250330T010000
END:DAYLIGHT
BEGIN:STANDARD
TZOFFSETFROM:+0200
TZOFFSETTO:+0100
TZNAME:CET
DTSTART:20251026T010000
END:STANDARD
BEGIN:DAYLIGHT
TZOFFSETFROM:+0100
TZOFFSETTO:+0200
TZNAME:CEST
DTSTART:20260329T010000
END:DAYLIGHT
BEGIN:STANDARD
TZOFFSETFROM:+0200
TZOFFSETTO:+0100
TZNAME:CET
DTSTART:20261025T010000
END:STANDARD
END:VTIMEZONE
BEGIN:VEVENT
DTSTART;VALUE=DATE:20250530
DTEND;VALUE=DATE:20250602
DTSTAMP:20260424T035957
CREATED:20250217T230810Z
LAST-MODIFIED:20250217T230810Z
UID:2639-1748563200-1748822399@kendo.ch
SUMMARY:KENDO EUROPEAN CHAMPIONSHIP 2025 IN LEIDEN THE NETHERLANDS
DESCRIPTION:  \n \nALLE INFOIRMATIONEN FINDEST DU HIER/ ICI TU TROUVE TOUTES LES INFORMATIONS \nhttps://ekc2025.nl/ \n 
URL:https://kendo.ch/event/kendo-european-championship-2025-in-leiden-the-netherlands/
CATEGORIES:Championship,Kendo
ATTACH;FMTTYPE=image/webp:https://kendo.ch/wp-content/uploads/2025/02/ekc2025_logo_small_shadow.webp
ORGANIZER;CN="Kendo Federation (EKF)":MAILTO:webmaster@ekf-eu.com
END:VEVENT
BEGIN:VEVENT
DTSTART;VALUE=DATE:20250614
DTEND;VALUE=DATE:20250615
DTSTAMP:20260424T035957
CREATED:20250324T113006Z
LAST-MODIFIED:20250612T060544Z
UID:2718-1749859200-1749945599@kendo.ch
SUMMARY:Kendo Shinpan-Seminar in Bern
DESCRIPTION:Einladung zum Kendo Schiedsrichter Seminar am 14. Juni 2025 \nLiebe Kendo-Enthusiasten\, \nwir freuen uns\, dich zur Teilnahme am Kendo Schiedsrichter Seminar einzuladen\, das am Samstag\, den 14. Juni 2025\, stattfinden wird. Das Seminar bietet eine grossartige Gelegenheit\, deine Schiedsrichterfähigkeiten zu verbessern und dein Wissen über Kendo zu vertiefen. \nDatum: Samstag\, 14. Juni 2024 \nUhrzeit: ab 14:00 Uhr – 17:00 Uhr. ( Kadertraining am Morgen) \nOrt: Sporthalle Schulhaus Wankdorf\, Morgartenstrasse 2\, 3014 Bern \nVerpflegung: jeder ist für seine Verpflegung selbst verantwortlich \nWer bereits folgende Gegenstände besitzt\, bitte unbedingt mitbringen: \n\neigene Fahnen\nKendo Schimpan Reglement (grünes Buch)\nSchiedsrichter Kleidung\n\nDas Seminar wird von erfahrenen Kendo-Schiedsrichtern geleitet\, die dir wertvolle Einblicke und Tipps geben werden. Egal ob du bereits Erfahrung als Schiedsrichter hast oder neu in diesem Bereich bist\, das Seminar ist offen für alle Interessierende ab dem 2. Dan Kendo. \nBitte bestätige deine Teilnahme bis zum  9. Juni 2025 mit dem folgenden Google-Formular: https://forms.gle/xCzYzbN3KpexhkVE7 \nWir freuen uns darauf\, dich beim Kendo Schiedsrichter Seminar in Bern begrüssen zu dürfen und gemeinsam eine lehrreiche und bereichernde Erfahrung zu machen. \nFreundliche Grüsse \nDie Organisation \nFür Unfälle jeglicher Art wird keine Haftung übernommen. \nDatenschutz: \nMit der Anmeldung erkläre ich mich einverstanden\, dass meine Daten ausschliesslich zum Zweck der Organisation und Durchführung der Veranstaltung genutzt und gespeichert werden. Die Daten werden spätestens 3 Wochen nach Beendigung der Veranstaltung unwiderruflich gelöscht. \n.-.-.-.-.-.-.-.-.-.-.-.-.-.-.-.-.-.-.-.-.-.-.-.-.-.-.-.-.-.–.-.-.-.-.-.-.-.-.-.-.-.-.-.-.-.-.-.-.-.-.-.-.-.-.-.-.-.-.- \nInvitation au séminaire des arbitres de Kendo du 14 juin 2025 \nChers passionnés de kendo\, \nNous avons le plaisir de t’inviter à participer au séminaire d’arbitrage de Kendo qui aura lieu le samedi 14 juin 2025. Ce séminaire est une excellente occasion d’améliorer tes compétences d’arbitre et d’approfondir tes connaissances du Kendo. \nDate : samedi 14 juin 2024 \nHoraires : de 14 h 00 à 17 h 00 (entrainement du carde nationale le matin) \nLieu : salle de sport de l’école Wankdorf\, Morgartenstrasse 2\, 3014 Berne. \nRestauration : chacun est responsable de sa propre restauration. \nLes personnes qui possèdent déjà les objets suivants doivent absolument les apporter : \n\ndrapeaux d’arbitrage\nlivre d’arbitrage de Kendo (livre vert)\ntenue correcte pour le kendo\n\nLe séminaire sera dirigé par des arbitres de kendo expérimentés qui te donneront de précieux conseils et t’apporteront des informations utiles. Que tu aies déjà de l’expérience en tant qu’arbitre ou que tu sois novice dans ce domaine\, le séminaire est ouvert à toutes les personnes intéressées justifiant d’au moins le 2éme dan de kendo. \nMerci de confirmer ta participation avant le 9 juin 2025 en utilisant le formulaire suivant : https://forms.gle/xCzYzbN3KpexhkVE7 \nNous nous réjouissons de t’accueillir au séminaire des arbitres de kendo à Berne et de vivre ensemble une expérience instructive et enrichissante. \nSalutations amicales \nL’organisation \nNous déclinons toute responsabilité en cas d’accident\, quel qu’il soit. \nProtection des données : \nEn m’inscrivant\, j’accepte que mes données soient utilisées et enregistrées exclusivement dans le but d’organiser et de réaliser l’événement. Les données seront irrévocablement supprimées au plus tard 3 semaines après la fin de la manifestation.
URL:https://kendo.ch/event/kendo-shinpan-seminar-in-bern/
LOCATION:Sekundarschule Wankdorf\, Morgartenstrasse 2\, Bern\, 3014\, Schweiz
CATEGORIES:Kendo,Seminar
ATTACH;FMTTYPE=image/jpeg:https://kendo.ch/wp-content/uploads/2023/11/IMG_4575.jpg
ORGANIZER;CN="Swiss Kendo + Iaido":MAILTO:info@kendo.ch
END:VEVENT
BEGIN:VEVENT
DTSTART;VALUE=DATE:20250615
DTEND;VALUE=DATE:20250616
DTSTAMP:20260424T035957
CREATED:20250324T113559Z
LAST-MODIFIED:20250603T094821Z
UID:2720-1749945600-1750031999@kendo.ch
SUMMARY:41. Bern-Cup KENDO 2025
DESCRIPTION:Liebe Kendoka\nwir laden euch herzlich ein\, an unserem 41. Bern-Cup\nvom Sonntag\, 15. Juni 2025 teilzunehmen \n41. Bern-Cup Sonntag\, 15. Juni 2025\n09.00 bis 17.30 Uhr\, TH Wankdorf Morgartenstrasse 2\nmit Rot-Weiss-Turnier\nKategorien: Open – Kyu Einzel bis und mit 1. Dan\nDamen Open-Turnier Kyu und Dan \nStartgeld\nFr. 25.00 – zahlbar vor Ort in bar \nVerpflegung am Sonntag\nSandwich Vegi/Fleisch 5.00 mit Mineralwasser\njapanische Bento-Box Poulet Fr. 22.00/Tofu Fr. 20.00 mit Mineralwasser \nAnmeldung bitte bis Donnerstag\, 5. Juni 2025\nhttps://forms.gle/b8qbGzkbZytTdvos6 \nVeranstaltungsort\nTH Wankdorf\, Morgartenstrasse 2\, 3014 Bern\nhttp://maps.google.ch/maps?f=q&source=s_q&hl=de&geocode=&q=Morgartenstrasse+2\,+3014+Bern&sll=46.362093\,9.036255&sspn=5.686465\,9.832764&ie=UTF8&hq=&hnear=Morgartenstrasse+2\,+3014+Bern&z=16 \nWir freuen uns auf euch\nliebe Grüsse & bis bald\nShin Ho Kan Bern\nKendo & Iaido\nwww.kendobern.ch \nMonika & Ryuji Itoh\n031 331 15 29 / 078 689 34 34\nMartin Sterchi\n079 667 79 64\nChristian Maurer\nM 079 136 90 95 \n\nChers kendoka\nNous vous invitons cordialement à participer à notre 41e Bern-Cup\ndu dimanche 15 juin 2025\n\n41e Bern-Cup Dimanche 15 juin 2025\n09.00 à 17.30 heures\, TH Wankdorf Morgartenstrasse 2\navec tournoi rouge et blanc\nCatégories : Open – Kyu individuel jusqu’au 1er Dan inclus\nTournoi Open dames Kyu et Dan \nFrais d’inscription\nFr. 25.00 – payable sur place en espèces \nRestauration le dimanche\nsandwich végétarien/viande 5.00 avec eau minérale\nboîte bento japonaise Poulet Fr. 22.00/Tofu Fr. 20.00 avec eau minérale \nInscription svp jusqu’au jeudi 5. juin 2025\nhttps://forms.gle/b8qbGzkbZytTdvos6 \nLieu de la manifestation\nTH Wankdorf\, Morgartenstrasse 2\, 3014 Bern\nhttp://maps.google.ch/maps?f=q&source=s_q&hl=de&geocode=&q=Morgartenstrasse+2\,+3014+Bern&sll=46.362093\,9.036255&sspn=5.686465\,9.832764&ie=UTF8&hq=&hnear=Morgartenstrasse+2\,+3014+Bern&z=16 \nNous nous réjouissons de vous rencontrer\nsalutations & à bientôt\nShin Ho Kan Bern\nKendo & Iaido\nwww.kendobern.ch \nMonika & Ryuji Itoh\n078 689 34 34\nMartin Sterchi\n079 667 79 64\nChristian Maurer\nM 079 136 90 95
URL:https://kendo.ch/event/41-bern-cup-kendo-2025/
LOCATION:Sekundarschule Wankdorf\, Morgartenstrasse 2\, Bern\, 3014\, Schweiz
ATTACH;FMTTYPE=image/jpeg:https://kendo.ch/wp-content/uploads/2024/01/images.jpg
END:VEVENT
BEGIN:VEVENT
DTSTART;TZID=Europe/Berlin:20250621T093000
DTEND;TZID=Europe/Berlin:20250621T170000
DTSTAMP:20260424T035957
CREATED:20250222T154836Z
LAST-MODIFIED:20250617T062425Z
UID:2654-1750498200-1750525200@kendo.ch
SUMMARY:Iaido Seminar mit Robert Senn\, Matthew Sykes-Gelder\, Maria Essers & Yvonne Lauper
DESCRIPTION:Ort:  Schulhaus Zentral\, Eichholzstrasse 11\, 8604 Volketswil  \nLeitung:  Robert Senn Sensei Iaido Renshi 6. Dan\, Matthew Sykes-Gelder Sensei Iaido Renshi 6. Dan\, Maria Essers Sensei Iaido 6. Dan\, Yvonne Lauper Sensei Iaido 6. Dan \nHalle Organisation:  Budo-Club Volketswil \nKosten: 25\,- SFr  (Zahlung mit TWINT möglich) \nTeilnehmer:  Alle Iaidokas von Anfänger bis Fortgeschrittenen. \nMittagessen:  Es gibt Kaffee und kalten Getränken zur Verfügung.   Bitte eure eigenes Mittagessen mitbringen. \nAnmeldung:  Alle Anmeldungen für das Training via dieser Google Formular bitte:  Formular Volketswil \nVersicherung\, Unterkunft und Verpflegung sollte jeder selbst organisieren.  Es könnten Dopingkontrollen durchgeführt werden\, weitere Informationen finden Sie hier:  Swiss Sport Integrity
URL:https://kendo.ch/event/iaido-seminar-mit-stefano-ferro-sensei-5/
LOCATION:Schulhaus Zentral\, Eichholzstrasse 11\, 8604 Volketswil\, Schulhaus Zentral\, Eichholzstrasse 11\, Volketswil\, 8604
CATEGORIES:Iaido,Seminar
ATTACH;FMTTYPE=image/png:https://kendo.ch/wp-content/uploads/2024/04/Logo-FB.png
ORGANIZER;CN="Swiss Kendo + Iaido":MAILTO:info@kendo.ch
END:VEVENT
BEGIN:VEVENT
DTSTART;TZID=Europe/Berlin:20250628T093000
DTEND;TZID=Europe/Berlin:20250628T170000
DTSTAMP:20260424T035957
CREATED:20250222T155118Z
LAST-MODIFIED:20250522T181530Z
UID:2657-1751103000-1751130000@kendo.ch
SUMMARY:Jodo Outdoor Seminar & Grill mit Katja Fleury Sensei\, Gunzwil
DESCRIPTION:Wo: Oberlehn 1\, 6222 Gunzwil \nKosten: 25.- CHF (Zahlung mit TWINT möglich) \nOrganisation: Emanuele Meyer \nTeilnehmer: Anfänger bis Fortgeschrittene \nMittagessen: Es gibt Kaffee und kalte Getränke. Bitte Mittagessen selber mitbringen. \nAbendessen: Grill. Mehr Informationen im Anmeldeformular \nAnmeldung: Bitte via folgendem Formular: Anmeldungsformular \nWICHTIG: Da es sich um ein Aussen-Seminar handelt\, wird 3 Tage vorher definitiv bekannt gegeben\, ob das Seminar wetterbedingt stattfindet. \nVersicherung\, Unterkunft und Verpflegung sollte jeder selbst organisieren. Es könnten Dopingkontrollen durchgeführt werden\, weitere Informationen finden Sie hier: Swiss Sport Integrity
URL:https://kendo.ch/event/jodo-outdoor-seminar-grill-mit-katja-fleury-sensei-gunzwil/
LOCATION:Oberlehn 1\, 6222 Gunzwil\, Oberlehn 1\, Gunzwil\, 6222\, Switzerland
CATEGORIES:Jodo,Seminar
ORGANIZER;CN="Swiss Kendo + Iaido":MAILTO:info@kendo.ch
END:VEVENT
END:VCALENDAR