BEGIN:VCALENDAR
VERSION:2.0
PRODID:-//SKI Official site for kendo, iaido and jodo in Switzerland - ECPv6.15.20//NONSGML v1.0//EN
CALSCALE:GREGORIAN
METHOD:PUBLISH
X-ORIGINAL-URL:https://kendo.ch
X-WR-CALDESC:Veranstaltungen für SKI Official site for kendo, iaido and jodo in Switzerland
REFRESH-INTERVAL;VALUE=DURATION:PT1H
X-Robots-Tag:noindex
X-PUBLISHED-TTL:PT1H
BEGIN:VTIMEZONE
TZID:UTC
BEGIN:STANDARD
TZOFFSETFROM:+0000
TZOFFSETTO:+0000
TZNAME:UTC
DTSTART:20210101T000000
END:STANDARD
END:VTIMEZONE
BEGIN:VTIMEZONE
TZID:Europe/Berlin
BEGIN:DAYLIGHT
TZOFFSETFROM:+0100
TZOFFSETTO:+0200
TZNAME:CEST
DTSTART:20170326T010000
END:DAYLIGHT
BEGIN:STANDARD
TZOFFSETFROM:+0200
TZOFFSETTO:+0100
TZNAME:CET
DTSTART:20171029T010000
END:STANDARD
BEGIN:DAYLIGHT
TZOFFSETFROM:+0100
TZOFFSETTO:+0200
TZNAME:CEST
DTSTART:20180325T010000
END:DAYLIGHT
BEGIN:STANDARD
TZOFFSETFROM:+0200
TZOFFSETTO:+0100
TZNAME:CET
DTSTART:20181028T010000
END:STANDARD
BEGIN:DAYLIGHT
TZOFFSETFROM:+0100
TZOFFSETTO:+0200
TZNAME:CEST
DTSTART:20190331T010000
END:DAYLIGHT
BEGIN:STANDARD
TZOFFSETFROM:+0200
TZOFFSETTO:+0100
TZNAME:CET
DTSTART:20191027T010000
END:STANDARD
BEGIN:DAYLIGHT
TZOFFSETFROM:+0100
TZOFFSETTO:+0200
TZNAME:CEST
DTSTART:20200329T010000
END:DAYLIGHT
BEGIN:STANDARD
TZOFFSETFROM:+0200
TZOFFSETTO:+0100
TZNAME:CET
DTSTART:20201025T010000
END:STANDARD
BEGIN:DAYLIGHT
TZOFFSETFROM:+0100
TZOFFSETTO:+0200
TZNAME:CEST
DTSTART:20210328T010000
END:DAYLIGHT
BEGIN:STANDARD
TZOFFSETFROM:+0200
TZOFFSETTO:+0100
TZNAME:CET
DTSTART:20211031T010000
END:STANDARD
BEGIN:DAYLIGHT
TZOFFSETFROM:+0100
TZOFFSETTO:+0200
TZNAME:CEST
DTSTART:20220327T010000
END:DAYLIGHT
BEGIN:STANDARD
TZOFFSETFROM:+0200
TZOFFSETTO:+0100
TZNAME:CET
DTSTART:20221030T010000
END:STANDARD
BEGIN:DAYLIGHT
TZOFFSETFROM:+0100
TZOFFSETTO:+0200
TZNAME:CEST
DTSTART:20230326T010000
END:DAYLIGHT
BEGIN:STANDARD
TZOFFSETFROM:+0200
TZOFFSETTO:+0100
TZNAME:CET
DTSTART:20231029T010000
END:STANDARD
END:VTIMEZONE
BEGIN:VEVENT
DTSTART;VALUE=DATE:20230304
DTEND;VALUE=DATE:20230306
DTSTAMP:20260424T122639
CREATED:20220517T191449Z
LAST-MODIFIED:20221210T115024Z
UID:1712-1677888000-1678060799@kendo.ch
SUMMARY:16. Iaido Schweizermeisterschaften 2023
DESCRIPTION:Iaido Schweizermeisterschaft\, 04-05. März 2023\n\n  \nSamstag\, 04. März 2023\, Iaido Seminar mit anschliessend Schiedsrichter Seminar \n09.30 Uhr Hallenöffnung \n10:00 – 12:30 Uhr     Iaido Seminar für alle \n12:30 – 13:30 Uhr     Mittagspause \n13:30 – 15:45 Uhr     Iaido Seminar für alle \n16:00 – 17:00 Uhr     Iaido/Schiedsrichter Seminar für alle Teilnehmer \n17:00 – 18:00 Uhr     Einrichtung von der Halle \n19:00 Uhr Gemeinsames Nachtessen (Anmeldung auf dem Internetformular) \nSonntag\, 05. März 2022\, 16. Iaido Schweizermeisterschaft \n08.30 Uhr Hallenöffnung \n09:00 – 09:30 Uhr Iaido Open Training für alle \n09:30 Uhr Eröffnung Zeremonie anschliessend Einzel Taikai \nTeam Taikai \nRokudan & Nandan Embu \nca.16:00 Uhr Schluss-Zeremonie \nVerpflegung: \nIst selbst zu organisieren: Keine Verpflegung Möglichkeit in der Halle\, jeder ist für seine eigene Malzeit verantwortlich. \nKategorien: \nEinzel: \nEinzel: Kyu (Clubgrad <2. Kyu)\, Mudan (Verbandsgrad 1. & 2. Kyu)\, Shodan\, Nidan\, Sandan\, Yondan und Godan. \nTeam: \nDrei Iaidoka aus dem gleichen Club (max. ein 4. Dan pro Team\, bei nur zwei Iaidoka in einem Team geht der zweite Kampf verloren). Erlaubt sind zwei Teams pro Dojo. Ein Iaidoka kann nur für ein Team starten. \nSchiedsrichter: \nRené van Amersfoort (Kyoshi 7. Dan)\, Stefano Ferro (Renshi 7. Dan)\, Robert Senn (6. Dan)\, Matthew Sykes-Gelder (6. Dan) sowie die 5. Dan-Träger und ev. 4. Dan-Träger. \nAnmeldung: \nEinzel via Internetformular: 26. Februar 2023. Auf: https://forms.gle/aMRRsBzWMVSczJD76 \nTeilnameberechtigung: \nAlle Iaidoka\, welche offiziell als SKI-Mitglieder sind im Jahr 2022 und 2023. \nAbendessen am Samstag 19:00 Uhr: \nHotel Restaurant Puurehuus\, Fehraltorferstrasse 9\, 8615 Wermatswil.  Bestellen bis 24. Februar 2023 auf  https://forms.gle/qELXzBb6ysPihVMr7 \nSeminarkosten und Startgeld: \nDas Seminar und Startkosten sind bis 1. März 2023 auf das Konto des Swiss Kendo + Iaido zu überweisen. \nNur Seminar:                     30 CHF pro Person \nSeminar + Einzel Taikai:   40 CHF pro Person \nNur Einzel Taikai:              40 CHF pro Person \n Team Taikai:                       40 CHF pro Team \nÜbernachtung \nAls Übernachtungsmöglichkeiten: \nwww.puurehuus.com \nhttps://www.swiss-star-home.com/ \nhttp://hotel-rubus.ch/ \nÖffentliche-Transportmittels \nZug bis Bahnof Schwerzenbach ZH.  Bus B725 Richtung Uster Bahnhof\, bis Haltestelle Volketswil\, Zimikon. \nWeitere Informationen: \nFür weitere Informationen zu Iaido Schweizermeisterschaft bitte schriftlich via E-Mail: \nAn matthewsykesgelder@gmail.com. \nZahlungsadresse \nCH57 8080 8005 5668 5672 3                                      Swiss Kendo + Iaido \nBIC/Swift Code: RAIFCH22698                                     1003 Lausanne \nRaiffeisenbank Aarau-Lenzburg                                  Zahlungsvermerk «Iaido SM 2023» \n————————————————————————————————————————————- \nDer Veranstalter übernimmt keinerlei Haftung Versicherung ist Sache der teilnehmende. \nMit Teilnahme an dieser Veranstaltung erklärt jeder Teilnehmer/ jede Teilnehmerin explizit sein/ ihr Einverständnis\, dass Bilder und Videos von ihm/ ihr in allen Medien\, auch dem Internet\, veröffentlicht werden können.
URL:https://kendo.ch/event/iaido-schweizermeisterschaften-2023/
LOCATION:Schulhaus in der Höh\, In der Höh 11\, Volketswil\, 8604\, Schweiz
CATEGORIES:CH-Competition,Championship,Iaido,Schweizermeisterschaften,Seminar,Taikai
ATTACH;FMTTYPE=image/jpeg:https://kendo.ch/wp-content/uploads/2022/03/20220305_171718-scaled.jpg
END:VEVENT
BEGIN:VEVENT
DTSTART;VALUE=DATE:20221029
DTEND;VALUE=DATE:20221031
DTSTAMP:20260424T122639
CREATED:20220427T140704Z
LAST-MODIFIED:20220913T172244Z
UID:1697-1667001600-1667174399@kendo.ch
SUMMARY:30th Kendo Swiss Championships 2022\, Bern\, 29-30.10.2022
DESCRIPTION:Link to the official webpage:  https://sites.google.com/view/kendosmbern2022/home \nAnmeldung nur via den Dojo-Leiter bitte. \nInscription seulement via les Dojo-Leaders s’il vous plaît. \n 
URL:https://kendo.ch/event/kendo-schweizermeisterschaften-2022-bern/
LOCATION:Bern (Ittigen)
CATEGORIES:CH-Competition,Championship,Grading,Kendo,Kids Tournament,Schweizermeisterschaften,Taikai
ORGANIZER;CN="Swiss Kendo + Iaido":MAILTO:info@kendo.ch
END:VEVENT
BEGIN:VEVENT
DTSTART;TZID=Europe/Berlin:20220305T100000
DTEND;TZID=Europe/Berlin:20220306T173000
DTSTAMP:20260424T122639
CREATED:20220108T124043Z
LAST-MODIFIED:20220128T121720Z
UID:1538-1646474400-1646587800@kendo.ch
SUMMARY:15. Iaido Schweizermeisterschaften 2022\, Kriens
DESCRIPTION:Iaido Schweizermeisterschaft\, 05/06. März 2022\n\nSamstag\, 05. März 2022\, Iaido Seminar mit anschliessend Schiedsrichter Seminar \n09.30 Uhr Hallenöffnung \n10:00 – 12:30 Uhr     Iaido Seminar für alle \n12:30 – 13:30 Uhr     Mittagspause \n13:30 – 15:45 Uhr     Iaido Seminar für alle \n16:00 – 17:00 Uhr     Iaido/Schiedsrichter Seminar für alle Teilnehmer \n17:00 – 18:00 Uhr     Einrichtung von der Halle \n19:00 Uhr Gemeinsames Nachtessen (Anmeldung auf dem Internetformular) \n  \nSonntag\, 06. März 2022\, 15. Iaido Schweizermeisterschaft \n08.30 Uhr Hallenöffnung \n09:00 – 10:00 Uhr Iaido Open Training für alle \n10:00 Uhr Eröffnung Zeremonie anschliessend Einzel Taikai \nTeam Taikai \nRokudan Embu \nca.17:30 Uhr Schluss-Zeremonie \n  \nAdresse: \nSchulanlage Krauer\, Horwerstrasse 10\, 6010 Kriens \n  \nVerpflegung: \nIst selbst zu Organisieren: Keine Verpflegung Möglichkeit in der Halle\, jeder ist für seine eigene Malzeit verantwortlich. \n  \nKategorien: \nEinzel: \nEinzel: Kyu (Clubgrad <3. Kyu)\, Mudan (Verbandsgrad 1. & 2. Kyu)\, Shodan\, Nidan\, Sandan\, Yondan und Godan \n  \nTeam: \nDrei Iaidoka aus dem gleichen Club (max. ein 4. Dan pro Team\, bei nur zwei Iaidoka in einem Team geht der zweite Kampf verloren). Erlaubt sind zwei Teams pro Dojo. Ein Iaidoka kann nur für ein Team starten. \n  \nSchiedsrichter: \nStefano Ferro (6. Dan Renshi) Nicola Casamassima (6. Dan Renshi)\, Robert Senn (6. Dan) sowie die 5. Dan-Träger und ev. 4. Dan-Träger. \n  \nAnmeldung: \nEinzel via Internetformular: 01. März 2022. Auf: https://forms.gle/ZVxnaLyxY1nfWc8p8 \n  \nTeilnameberechtigung: \nAlle Iaidoka\, welche offiziell als SKI Mitglieder sind im Jahr 2021 und 2022 oder die Swiss Kendo + Iaido Jahresmarke 2021 besitzen. \n  \nSeminarkosten und Startgeld: \nSamstag Seminar und Startgeld für die Schweizermeisterschaften \nSamstag Seminar: 30.00 CHF / Gratis für alle die am Taikai Teilnehmen \nSchweizermeisterschaft im Einzel pro Person 40.00 CHF und pro Team 40.00 CHF \n  \nDas Seminar und Startkosten sind bis 1. März 2022 auf das Konto des Swiss Kendo + Iaido zu überweisen. \n  \nÜbernachtung \nAls Übernachtungsmöglichkeiten bieten sich folgende Link an: https://www.booking.com \nHotel Ibis oder Holiday Inn \n  \nÖffentliche-Transportmittels \nAb Bahnhof Luzern BUS 1 bis Kriens\, Hofmatt Bellpark\, danach 5 Minuten Fussweg. \nWeitere Informationen: \nFür weitere Informationen zu Iaido Schweizermeisterschaft bitte schriftlich via E-Mail: \nAn database-administrator@kendo.ch oder matthewsykesgelder@gmail.com. \n  \nZahlungsadresse \nCH57 8080 8005 5668 5672 3 \nBIC/Swift Code: RAIFCH22698 \nRaiffeisenbank Aarau-Lenzburg \nSwiss Kendo + Iaido \nc/o Stéphane Tomo Jud \nMühlemattstrasse 12\, 5000 Aarau \n  \nZahlungsvermerk «Iaido SM 2022» \n  \nWICHTIG: \nCovid Info (möglicherweise könnten bis März neue Vorschriften gelten): \nFür diese Veranstaltung gelten die 2G Regeln mit Masken (Öffentliches Gebäude) keine Stoffmasken sind erlaubt. \nIn den gesamten Gebäuden ist Mundschutz Obligatorisch. \nVermeiden Sie körperliche Begrüssungen (Händeschütteln\, Umarmungen usw.) und halten Sie einen Abstand von 1\,5 m ein. \nWaschen und desinfizieren Sie sich im Laufe des Tages regelmässig ihre Hände. \nHusten oder niesen Sie in ein Taschentuch oder in die Armbeuge. \nHandeln Sie verantwortungsbewusst und entsprechend\, wenn Sie vor\, während oder nach der Veranstaltung Symptome haben. \n————————————————————————————————————————————- \nDer Veranstalter übernimmt keinerlei Haftung Versicherung ist Sache der teilnehmende. \nMit Teilnahme an dieser Veranstaltung erklärt jeder Teilnehmer/ jede Teilnehmerin explizit sein/ ihr Einverständnis\, dass Bilder und Videos von ihm/ ihr in allen Medien\, auch dem Internet\, veröffentlicht werden können.
URL:https://kendo.ch/event/iaido-schweizermeisterschaften-2022/
LOCATION:Kauer Mehrzweckhalle\, Horwerstrasse 10\, Kriens\, LU\, 6010\, Schweiz
CATEGORIES:CH-Competition,Championship,Iaido,Seminar
ATTACH;FMTTYPE=image/png:https://kendo.ch/wp-content/uploads/2021/07/Logo-FB-tight.png
ORGANIZER;CN="Swiss Kendo + Iaido":MAILTO:info@kendo.ch
END:VEVENT
BEGIN:VEVENT
DTSTART;TZID=Europe/Berlin:20200301T090000
DTEND;TZID=Europe/Berlin:20200301T160000
DTSTAMP:20260424T122639
CREATED:20191207T163620Z
LAST-MODIFIED:20191207T164446Z
UID:1275-1583053200-1583078400@kendo.ch
SUMMARY:Jodo Schweizermeisterschaften 2020
DESCRIPTION:Einladung zur 8. Jodo Schweizermeisterschaft 1. März 2020 in Lachen (SZ) \nSonntag 1. März 2020: \n08.30 Uhr Hallenöffnung \n09:00 Uhr Open Jodo Seminar und Schiedsrichter Seminar \nAb. 10:30 Uhr Team Taikai Partner Taikai Dazwischen Mittagspause Einzel Taikai Rokudan Embu \n15:00 Uhr Schluss-Zeremonie \nAdresse: KV-Turnhalle Lachen\, Rosengartenstrasse 12\, 8853 Lachen (Hintereingang) (nähe Bahnhof Lachen und Parkhaus Sagenriet) \nVerpflegung: Ist selbst zu Organisieren. Es werden Getränke und Kaffee zur Verfügung stehen. \nKategorien: Einzel: Einzel: Kyu (</= 1. Kyu)\, Shodan\, Nidan\, Sandan\, Yondan und Godan\nTeam: Drei Jodoka aus dem gleichen Club (max. ein 4. Dan pro Team\, bei nur zwei Jodoka in einem Team geht der zweite Kampf verloren). Erlaubt sind zwei Teams pro Dojo. Ein Jodoka kann nur für ein Team starten. \nSchiedsrichter: Katja Fleury (6. Dan)\, Beat Bähler (6. Dan) Bruno Lehmann (6. Dan) sowie die 5. Dan-Träger. Anmeldung: Einzel via Internet Formular: https://forms.gle/xwcNsL1UZ2eFnNwG9 Anmeldeschluss ist der 7. Februar 2020. \nTeilnameberechtigung: Alle Jodoka\, welche die Swiss Kendo + Iaido Jahresmarke 2020 besitzen. Es werden alle SJV Pässe Sonntag vor Beginn kontrolliert. Bitte SJV Pass nicht vergessen. Eine Kontrolle wird durchgeführt. \nSeminarkosten und Startgeld: Dank den grosszügigen Sponsoren kann dieses Jahr auf Seminarkosten und ein Startgeld verzichtet werden. Es wird dafür mit einer möglichst hohen Teilnehmerzahl gerechnet.\nÜbernachtung Für Informationen über Hotels steht Linus Bruhin (linus.bruhin@sjv.ch) zur Verfügung. \nÖffentliche-Transportmittels Die KV-Turnhalle ist 250 m vom Bahnhof Lachen (SZ) entfernt.\nWeitere Informationen: Für weitere Informationen zu Iaido Schweizermeisterschaft bitte schriftlich via E-Mail: \nan database-administrator@kendo.ch oder per Telefon an Roger Fleury\, Verantwortlich für Verbandsturniere Iaido & Jodo (Tel. +41 79 415 60 89).  Oder schriftlich via E-Mail an Matthew Sykes-Gelder matthewsykesgelder@gmail.com (+41 79 258 37 52) \nWICHTIG: Der Veranstalter übernimmt keinerlei Haftung. Mit Teilnahme an dieser Veranstaltung erklärt jeder Teilnehmer/ jede Teilnehmerin explizit sein/ ihr Einverständnis\, dass Bilder und Videos von ihm/ ihr in allen Medien\, auch dem Internet\, veröffentlicht werden können. \nUnsere Sponsoren und Gönner \nOrganisation: \nSwiss Kendo + Iaido\, (Swiss Olympic Member) \nAusrichter: \nKampfsportcenter Do-Jigo\, Wollerau und Niederurnen \nSponsoren: \nSwisslos\, Swiss-Toto \nSponsoring Gemeinde Lachen \nKarl-Lamperti Stiftung für die Förderung der Lebensqualität in Lachen
URL:https://kendo.ch/event/jodo-schweizermeisterschaften-2020/
LOCATION:KV-Turnhalle Lachen\, KV-Turnhall Lachen\, Rosengartenstrasse 12\, Lachen\, 8853
CATEGORIES:CH-Competition,Championship,Jodo,Schweizermeisterschaften,Taikai
ATTACH;FMTTYPE=image/png:https://kendo.ch/wp-content/uploads/2019/07/SM-Logo.png
END:VEVENT
BEGIN:VEVENT
DTSTART;TZID=Europe/Berlin:20200229T090000
DTEND;TZID=Europe/Berlin:20200301T173000
DTSTAMP:20260424T122639
CREATED:20190706T145728Z
LAST-MODIFIED:20191207T164415Z
UID:1187-1582966800-1583083800@kendo.ch
SUMMARY:Iaido Schweizermeisterschaften 2020
DESCRIPTION:Einladung zur 14. Iaido Schweizermeisterschaft\, 29. Februar 2020\, in Lachen (SZ) \nSamstag 29. Februar 2020: \n08.30 Uhr Hallenöffnung \n09:00 Uhr Open Iaido Seminar für alle \nAb 10:00 Uhr Einzel Taikai Dazwischen Mittagspause Team Taikai Rokudan Embu \n17:30 Uhr Schluss-Zeremonie 19:00 Uhr Gemeinsames Nachtessen (Anmeldung auf dem Internetformular) \nAdresse: KV-Turnhalle Lachen\, Rosengartenstrasse 12\, 8853 Lachen (Hintereingang) (nähe Bahnhof Lachen und Parkhaus Sagenriet) \nVerpflegung: Ist selbst zu Organisieren. Es werden Getränke und Kaffee zur Verfügung stehen.\nKategorien: Einzel: Kyu (Clubgrad bis 3. Kyu)\, Mudan (Verbandsgrad 1. & 2. Kyu)\, Shodan\, Nidan\, Sandan\, Yondan und Godan \nTeam: Drei Iaidoka aus dem gleichen Club (max. ein 4. Dan pro Team\, bei nur zwei Iaidoka in einem Team geht der zweite Kampf verloren). Erlaubt sind zwei Teams pro Dojo. Ein Iaidoka kann nur für ein Team starten. \nSchiedsrichter: Nicola Casamassima (6. Dan Renshi)\, Stefano Ferro (6. Dan Renshi)\, Robert Senn (6. Dan) sowie die 5. Dan-Träger und ev. 4. Dan-Träger. \nAnmeldung: Einzel via Internet Formular: \nhttps://forms.gle/As54heiTWCjSzo3F8 Anmeldeschluss ist der 7. Februar 2020. \nTeilnahmeberechtigung: Alle Iaidoka\, welche die Swiss Kendo + Iaido Jahresmarke 2020 besitzen. Es werden alle SJV Pässe vor Beginn des Samstags-Seminars kontrolliert. Bitte SJV Pass nicht vergessen. Eine Kontrolle wird durchgeführt. Seminarkosten und Startgeld: Dank den grosszügigen Sponsoren kann dieses Jahr auf Seminarkosten und ein Startgeld verzichtet werden. Es wird dafür mit einer möglichst hohen Teilnehmerzahl gerechnet.\nÜbernachtung: Für Informationen über Hotels steht Linus Bruhin (linus.bruhin@sjv.ch) zur Verfügung. \nÖffentliche Transportmittel: Die KV-Turnhalle ist 250 m vom Bahnhof Lachen (SZ) entfernt. \nWeitere Informationen: Für weitere Informationen zu Iaido Schweizermeisterschaft bitte schriftlich oder via E-Mail: an database-administrator@kendo.ch oder per Telefon an Roger Fleury\, Verantwortlich für Verbandsturniere Iaido & Jodo (Tel. +41 79 415 60 89). \nOder schriftlich via E-Mail an Matthew Sykes-Gelder matthewsykesgelder@gmail.com (+41 79 258 37 52)\nWICHTIG: Der Veranstalter übernimmt keinerlei Haftung. Mit Teilnahme an dieser Veranstaltung erklärt jeder Teilnehmer/ jede Teilnehmerin explizit sein/ ihr Einverständnis\, dass Bilder und Videos von ihm/ ihr in allen Medien\, auch dem Internet\, veröffentlicht werden können. \nUnsere Sponsoren und Gönner \nOrganisation: \nSwiss Kendo + Iaido\, (Swiss Olympic Member) \nAusrichter: \nKampfsportcenter Do-Jigo\, Wollerau und Niederurnen \nSponsoren: \nSwisslos\, Swiss-Toto \nSponsoring Gemeinde Lachen \nKarl-Lamperti Stiftung für die Förderung der Lebensqualität in Lachen
URL:https://kendo.ch/event/iaido-jodo-schweizermeisterschaften-2020/
LOCATION:KV-Turnhalle Lachen\, KV-Turnhall Lachen\, Rosengartenstrasse 12\, Lachen\, 8853
CATEGORIES:CH-Competition,Iaido,Schweizermeisterschaften,Seminar,Taikai
ATTACH;FMTTYPE=image/png:https://kendo.ch/wp-content/uploads/2019/07/SM-Logo.png
ORGANIZER;CN="Swiss Kendo + Iaido":MAILTO:info@kendo.ch
END:VEVENT
BEGIN:VEVENT
DTSTART;VALUE=DATE:20191101
DTEND;VALUE=DATE:20191104
DTSTAMP:20260424T122639
CREATED:20181228T004321Z
LAST-MODIFIED:20190728T103519Z
UID:948-1572566400-1572825599@kendo.ch
SUMMARY:26th European Iaido Championships\, Athens\, Greece
DESCRIPTION:Allen Informations sind auf: \nwww.26eic2019.gr
URL:https://kendo.ch/event/6th-european-iaido-championships-athens-greece/
LOCATION:Athens\, Athens\, Griechenland
CATEGORIES:Championship,Grading,Iaido,Seminar,Taikai
ATTACH;FMTTYPE=image/jpeg:https://kendo.ch/wp-content/uploads/2018/12/EIC-2019-logo.jpg
END:VEVENT
BEGIN:VEVENT
DTSTART;VALUE=DATE:20190920
DTEND;VALUE=DATE:20190922
DTSTAMP:20260424T122639
CREATED:20181228T004033Z
LAST-MODIFIED:20190728T103303Z
UID:944-1568937600-1569110399@kendo.ch
SUMMARY:18th European Jodo Championships\, Zawiercie\, Poland
DESCRIPTION:Allen Infos sind auf: \nwww.ejc2019.pl
URL:https://kendo.ch/event/18th-european-jodo-championships-zawiercie-poland/
LOCATION:Zawiercie\, Zawiercie\, Polen
CATEGORIES:Championship,Grading,Jodo,Seminar,Taikai
ATTACH;FMTTYPE=image/jpeg:https://kendo.ch/wp-content/uploads/2018/12/EJC-website.jpg
ORGANIZER;CN="Polish Kendo Association":MAILTO:kendo@kendo.pl
END:VEVENT
BEGIN:VEVENT
DTSTART;VALUE=DATE:20190309
DTEND;VALUE=DATE:20190311
DTSTAMP:20260424T122639
CREATED:20181220T203606Z
LAST-MODIFIED:20190208T195144Z
UID:895-1552089600-1552262399@kendo.ch
SUMMARY:Iaido & Jodo Schweizermeisterschaften 2019
DESCRIPTION:13. Iaido Schweizermeisterschaft  März 2019 \nSamstag 09. März 2019: \n08.30 Uhr             Hallenöffnung \n09:00 Uhr             Open Iaido Seminar für alle \n10:00 Uhr             Einzel Taikai \nxx:xx Uhr              Team Taikai \nxx:xx Uhr              Rokudan Embu \n17:30 Uhr             Schluss-Zeremonie \n19:00 Uhr             Gemeinsames Nachtessen (Anmeldung auf dem Internetformular) \nAdresse: \nSporthalle Tscharnergut 1 + 2 Fellerstrasse 18 | 3027 Bern \nVerpflegung: \nIst selber zu Organisieren: Restaurant und Tankstellen Shop sind in der unmittelbaren Nähe. \nKategorien: \nEinzel: \nEinzel: Kyu (Clubgrad <3. Kyu)\, Mudan (Verbandsgrad 1. & 2. Kyu)\, Shodan\, Nidan\, Sandan\, Yondan und Godan \nTeam: \nDrei Iaidoka aus dem gleichen Club (max. ein 4. Dan pro Team\, bei nur zwei Iaidoka in einem Team geht der zweite Kampf verloren). Erlaubt sind zwei Teams pro Dojo. Ein Iaidoka kann nur für ein Team starten. \nSchiedsrichter: \nNicola Casamassima (6. Dan Renshi)\, Stefano Ferro (6. Dan Renshi)\, Robert Senn (6. Dan) sowie die 5. Dan-Träger und ev. 4. Dan-Träger. \nAnmeldung: \nEinzel via Internet Formular: https://goo.gl/forms/TWLPCq22ClnRa7Xs1 bis 01. März 2019. \nTeilnameberechtigung: \nAlle Iaidoka\, welche die Swiss Kendo + Iaido Jahresmarke 2019 besitzen. Es werden alle SJV Pässe vor Beginn des Samstags-Seminars kontrolliert. Bitte SJV Pass nicht vergessen. Eine Kontrolle wird durchgeführt. \nHier habt Ihr die Möglichkeit einen SJV Pass zu bestellen: https://goo.gl/forms/xn2W8osvkKI3YKOa2 \nSeminarkosten und Startgeld: \nStartgeld für die Schweizermeisterschaften \nFr. 40.00 pro Person im Einzel\, Fr. 40.00 pro Team \nDie Startkosten sind bis 1. März 2019 auf das Konto des Swiss Kendo + Iaido zu überweisen. \n  \n\nJodo Schweizermeisterschaft 10. März 2019\n\n Sonntag 10. März 2019: \n08.30 Uhr             Hallenöffnung \n09:00 Uhr             Open Jodo Seminar und Schiedsrichter Seminar \n10:30 Uhr             Team Taikai \nxx:xx Uhr              Partner Taikai \nxx:xx Uhr              Einzel Taikai \nxx:xx Uhr              Rokudan Embu \n16:30 Uhr             Schluss-Zeremonie \n Adresse: \nSporthalle Tscharnergut 1 + 2 Fellerstrasse 18 | 3027 Bern \nVerpflegung: \nIst selber zu Organisieren: Restaurant und Tankstellen Shop sind in der unmittelbaren Nähe. \nKategorien: \nEinzel: \nEinzel: Kyu (</= 1. Kyu)\, Shodan\, Nidan\, Sandan\, Yondan und Godan \nTeam:  \nRandom \nPartner: \nPro Grad\, wenn möglich \nSchiedsrichter: \nKatja Fleury (6. Dan)\, Beat Bähler (6. Dan) Bruno Lehmann (6. Dan) sowie die 5. Dan- und 4. Dan-Träger. \nAnmeldung: \nEinzel via Internet Formular: https://goo.gl/forms/4ESH1IaEtWSxA2zh1 bis 01. März 2019. \nTeilnameberechtigung: \nAlle Jodoka\, welche die Swiss Kendo + Iaido Jahresmarke 2019 besitzen. Es werden alle SJV Pässe Sonntag vor Beginn kontrolliert. Bitte SJV Pass nicht vergessen. Eine Kontrolle wird durchgeführt. \nHier habt Ihr die Möglichkeit einen SJV Pass zu bestellen: https://goo.gl/forms/xn2W8osvkKI3YKOa2 \nSeminarkosten und Startgeld: \nStartgeld für die Schweizermeisterschaften \nFr. 40.00 pro Person im Einzel\, Fr. 40.00 pro Team \nDie Startkosten sind bis 1. März 2019 auf das Konto des Swiss Kendo + Iaido zu überweisen. \nÜbernachtung \nAls Übernachtungsmöglichkeiten bieten sich die folgenden Hotels an: \nIBIS Hotel Bern\, Wankdorf\, Bern https://ibis.accorhotels.com \nÖffentliche-Transportmittels   \nAb Bahnhof Bern S Bahn (S5\, S51\, S52) Parkplätze sind nur wenige vorhanden. \nWeitere Informationen: \nFür weitere Informationen zu Iaido Schweizermeisterschaft bitte schriftlich via E-Mail: \nan database-administrator@kendo.ch oder per Telefon an Roger Fleury\, Verantwortlich für Verbandsturniere Iaido & Jodo (Tel. +41 79 415 60 89). \nOder schriftlich via E-Mail an Matthew Sykes-Gelder matthewsykesgelder@gmail.com (+41 79 258 37 52) \nZahlungsadresse \nIBAN: CH 46 8069 8000 0142 0208 4 \nSIC / BC Nummer: 80698 \nSwift-BIC: RAIFCH22 \nRaiffeisenbank Aarau-Lenzburg \nSwiss Kendo + Iaido \nStéphane Tomo Jud \nGirixweg 44 \n5000 Aarau \nZahlungsvermerk «SM 2019» \nWICHTIG: \nDer Veranstalter übernimmt keinerlei Haftung. \nMit Teilnahme an dieser Veranstaltung erklärt jeder Teilnehmer/ jede Teilnehmerin explizit sein/ ihr Einverständnis\, dass Bilder und Videos von ihm/ ihr in allen Medien\, auch dem Internet\, veröffentlicht werden können.
URL:https://kendo.ch/event/iaido-jodo-schweizermeisterschaften-2019-2/
LOCATION:Tscharnergut Halle\, Fellerstrasse 18\, Bern\, 3027\, Schweiz
CATEGORIES:CH-Competition,Championship,Iaido,Jodo,Schweizermeisterschaften,Taikai
ORGANIZER;CN="Swiss Kendo + Iaido":MAILTO:info@kendo.ch
END:VEVENT
BEGIN:VEVENT
DTSTART;VALUE=DATE:20180929
DTEND;VALUE=DATE:20181001
DTSTAMP:20260424T122639
CREATED:20180406T083039Z
LAST-MODIFIED:20180529T192823Z
UID:625-1538179200-1538351999@kendo.ch
SUMMARY:17th European Jodo Championships
DESCRIPTION:17th European Jodo Championships\, Budapest\, Hungary \nGradings: 1. – 7. Dan Jodo \nOrganized By: EKF / HKU \nMore information is available on www.ejc2018.hu \n 
URL:https://kendo.ch/event/17th-european-jodo-championships/
LOCATION:Körcsarnok Budapest\, Istvánmezei út 3-5\, Budapest\, 1146\, Ungarn
CATEGORIES:Championship,Grading,Jodo,Seminar,Taikai
ORGANIZER;CN="Hungarian Kendo%2C Iaido and Jodo Federation":MAILTO:office@kendo.hu
END:VEVENT
END:VCALENDAR