BEGIN:VCALENDAR
VERSION:2.0
PRODID:-//SKI Official site for kendo, iaido and jodo in Switzerland - ECPv6.15.20//NONSGML v1.0//EN
CALSCALE:GREGORIAN
METHOD:PUBLISH
X-ORIGINAL-URL:https://kendo.ch
X-WR-CALDESC:Veranstaltungen für SKI Official site for kendo, iaido and jodo in Switzerland
REFRESH-INTERVAL;VALUE=DURATION:PT1H
X-Robots-Tag:noindex
X-PUBLISHED-TTL:PT1H
BEGIN:VTIMEZONE
TZID:Europe/Berlin
BEGIN:DAYLIGHT
TZOFFSETFROM:+0100
TZOFFSETTO:+0200
TZNAME:CEST
DTSTART:20220327T010000
END:DAYLIGHT
BEGIN:STANDARD
TZOFFSETFROM:+0200
TZOFFSETTO:+0100
TZNAME:CET
DTSTART:20221030T010000
END:STANDARD
BEGIN:DAYLIGHT
TZOFFSETFROM:+0100
TZOFFSETTO:+0200
TZNAME:CEST
DTSTART:20230326T010000
END:DAYLIGHT
BEGIN:STANDARD
TZOFFSETFROM:+0200
TZOFFSETTO:+0100
TZNAME:CET
DTSTART:20231029T010000
END:STANDARD
BEGIN:DAYLIGHT
TZOFFSETFROM:+0100
TZOFFSETTO:+0200
TZNAME:CEST
DTSTART:20240331T010000
END:DAYLIGHT
BEGIN:STANDARD
TZOFFSETFROM:+0200
TZOFFSETTO:+0100
TZNAME:CET
DTSTART:20241027T010000
END:STANDARD
END:VTIMEZONE
BEGIN:VEVENT
DTSTART;VALUE=DATE:20230803
DTEND;VALUE=DATE:20230808
DTSTAMP:20260421T004805
CREATED:20230427T201427Z
LAST-MODIFIED:20230427T201427Z
UID:1884-1691020800-1691452799@kendo.ch
SUMMARY:NKR Jodo & Iaido Summer Seminar\, Eindhoven
DESCRIPTION:Link zim alle Infos: https://www.nkr.nl/nkr350/wsp/en/summer-seminar-nkr-iaido-jodo
URL:https://kendo.ch/event/nkr-jodo-iaido-summer-seminar-eindhoven/
CATEGORIES:Grading,Iaido,Jodo,Seminar
ATTACH;FMTTYPE=image/jpeg:https://kendo.ch/wp-content/uploads/2023/04/NKR-logo.jpg
END:VEVENT
END:VCALENDAR