BEGIN:VCALENDAR
VERSION:2.0
PRODID:-//SKI Official site for kendo, iaido and jodo in Switzerland - ECPv6.15.20//NONSGML v1.0//EN
CALSCALE:GREGORIAN
METHOD:PUBLISH
X-WR-CALNAME:SKI Official site for kendo, iaido and jodo in Switzerland
X-ORIGINAL-URL:https://kendo.ch
X-WR-CALDESC:Veranstaltungen für SKI Official site for kendo, iaido and jodo in Switzerland
REFRESH-INTERVAL;VALUE=DURATION:PT1H
X-Robots-Tag:noindex
X-PUBLISHED-TTL:PT1H
BEGIN:VTIMEZONE
TZID:UTC
BEGIN:STANDARD
TZOFFSETFROM:+0000
TZOFFSETTO:+0000
TZNAME:UTC
DTSTART:20220101T000000
END:STANDARD
END:VTIMEZONE
BEGIN:VTIMEZONE
TZID:Europe/Berlin
BEGIN:DAYLIGHT
TZOFFSETFROM:+0100
TZOFFSETTO:+0200
TZNAME:CEST
DTSTART:20220327T010000
END:DAYLIGHT
BEGIN:STANDARD
TZOFFSETFROM:+0200
TZOFFSETTO:+0100
TZNAME:CET
DTSTART:20221030T010000
END:STANDARD
BEGIN:DAYLIGHT
TZOFFSETFROM:+0100
TZOFFSETTO:+0200
TZNAME:CEST
DTSTART:20230326T010000
END:DAYLIGHT
BEGIN:STANDARD
TZOFFSETFROM:+0200
TZOFFSETTO:+0100
TZNAME:CET
DTSTART:20231029T010000
END:STANDARD
BEGIN:DAYLIGHT
TZOFFSETFROM:+0100
TZOFFSETTO:+0200
TZNAME:CEST
DTSTART:20240331T010000
END:DAYLIGHT
BEGIN:STANDARD
TZOFFSETFROM:+0200
TZOFFSETTO:+0100
TZNAME:CET
DTSTART:20241027T010000
END:STANDARD
END:VTIMEZONE
BEGIN:VEVENT
DTSTART;VALUE=DATE:20231006
DTEND;VALUE=DATE:20231009
DTSTAMP:20260420T204750
CREATED:20220908T192400Z
LAST-MODIFIED:20230729T093545Z
UID:1772-1696550400-1696809599@kendo.ch
SUMMARY:2023 European Jodo Championships\, Magglingen
DESCRIPTION:Link to the 2023 EJC official website:  EJC 2023 official website
URL:https://kendo.ch/event/2023-jodo-european-championships-magglingen/
LOCATION:Toto Sports Hall\, Hohmattstrasse\, Magglingen\, 2532
CATEGORIES:Championship,Grading,Jodo,Seminar,Taikai
ATTACH;FMTTYPE=image/jpeg:https://kendo.ch/wp-content/uploads/2022/09/EJC-Logo-Beat.jpg
END:VEVENT
BEGIN:VEVENT
DTSTART;VALUE=DATE:20231027
DTEND;VALUE=DATE:20231030
DTSTAMP:20260420T204750
CREATED:20221211T094853Z
LAST-MODIFIED:20230729T093449Z
UID:1824-1698364800-1698623999@kendo.ch
SUMMARY:2023 European Iaido Championships\, München
DESCRIPTION:Link: https://www.eic2023.de/
URL:https://kendo.ch/event/2023-european-iaido-championships-muenchen/
CATEGORIES:Championship,Grading,Iaido,Seminar,Taikai
ATTACH;FMTTYPE=image/jpeg:https://kendo.ch/wp-content/uploads/2022/12/EIC-logo.jpg
END:VEVENT
END:VCALENDAR