BEGIN:VCALENDAR
VERSION:2.0
PRODID:-//SKI Official site for kendo, iaido and jodo in Switzerland - ECPv6.15.20//NONSGML v1.0//EN
CALSCALE:GREGORIAN
METHOD:PUBLISH
X-ORIGINAL-URL:https://kendo.ch
X-WR-CALDESC:Veranstaltungen für SKI Official site for kendo, iaido and jodo in Switzerland
REFRESH-INTERVAL;VALUE=DURATION:PT1H
X-Robots-Tag:noindex
X-PUBLISHED-TTL:PT1H
BEGIN:VTIMEZONE
TZID:Europe/Berlin
BEGIN:DAYLIGHT
TZOFFSETFROM:+0100
TZOFFSETTO:+0200
TZNAME:CEST
DTSTART:20230326T010000
END:DAYLIGHT
BEGIN:STANDARD
TZOFFSETFROM:+0200
TZOFFSETTO:+0100
TZNAME:CET
DTSTART:20231029T010000
END:STANDARD
BEGIN:DAYLIGHT
TZOFFSETFROM:+0100
TZOFFSETTO:+0200
TZNAME:CEST
DTSTART:20240331T010000
END:DAYLIGHT
BEGIN:STANDARD
TZOFFSETFROM:+0200
TZOFFSETTO:+0100
TZNAME:CET
DTSTART:20241027T010000
END:STANDARD
BEGIN:DAYLIGHT
TZOFFSETFROM:+0100
TZOFFSETTO:+0200
TZNAME:CEST
DTSTART:20250330T010000
END:DAYLIGHT
BEGIN:STANDARD
TZOFFSETFROM:+0200
TZOFFSETTO:+0100
TZNAME:CET
DTSTART:20251026T010000
END:STANDARD
END:VTIMEZONE
BEGIN:VEVENT
DTSTART;TZID=Europe/Berlin:20241211T183000
DTEND;TZID=Europe/Berlin:20241211T213000
DTSTAMP:20260419T201117
CREATED:20241017T194100Z
LAST-MODIFIED:20241017T194100Z
UID:2533-1733941800-1733952600@kendo.ch
SUMMARY:Jodo Jahresabschluss Training und 1. Kyu Prüfungen 2024
DESCRIPTION:Wo:  Sakura Dojo\,  Zentweg 17C\, 1. OG\, 3006 Bern\nWann: Mittwoch 11. Dezember 2024\, 18:30 bis spätestens 21:30\, mit Prüfungen für 1. Kyu. \n1. Kyu Jodo Prüfung:  Anmeldeschluss ist am 01. Dezember 2024.  Prüfungs + Registrierungs-Gebuhren:  1. Kyu : 10.00 + 15.00 CHF. \nLink zum Anmeldungsformular für’s Training und Prüfung:  Anmeldungsformular Jodo Bern
URL:https://kendo.ch/event/jodo-jahresabschluss-training-und-1-kyu-pruefungen-2024/
LOCATION:Sakura Dojo\, Zentweg 17c\, Bern\, 3006\, Schweiz
CATEGORIES:Grading,Jodo,Seminar
ATTACH;FMTTYPE=image/jpeg:https://kendo.ch/wp-content/uploads/2024/10/Atagoshita-and-Yabu-Lane.jpg
END:VEVENT
END:VCALENDAR