BEGIN:VCALENDAR
VERSION:2.0
PRODID:-//SKI Official site for kendo, iaido and jodo in Switzerland - ECPv6.15.20//NONSGML v1.0//EN
CALSCALE:GREGORIAN
METHOD:PUBLISH
X-WR-CALNAME:SKI Official site for kendo, iaido and jodo in Switzerland
X-ORIGINAL-URL:https://kendo.ch
X-WR-CALDESC:Veranstaltungen für SKI Official site for kendo, iaido and jodo in Switzerland
REFRESH-INTERVAL;VALUE=DURATION:PT1H
X-Robots-Tag:noindex
X-PUBLISHED-TTL:PT1H
BEGIN:VTIMEZONE
TZID:Europe/Berlin
BEGIN:DAYLIGHT
TZOFFSETFROM:+0100
TZOFFSETTO:+0200
TZNAME:CEST
DTSTART:20180325T010000
END:DAYLIGHT
BEGIN:STANDARD
TZOFFSETFROM:+0200
TZOFFSETTO:+0100
TZNAME:CET
DTSTART:20181028T010000
END:STANDARD
BEGIN:DAYLIGHT
TZOFFSETFROM:+0100
TZOFFSETTO:+0200
TZNAME:CEST
DTSTART:20190331T010000
END:DAYLIGHT
BEGIN:STANDARD
TZOFFSETFROM:+0200
TZOFFSETTO:+0100
TZNAME:CET
DTSTART:20191027T010000
END:STANDARD
BEGIN:DAYLIGHT
TZOFFSETFROM:+0100
TZOFFSETTO:+0200
TZNAME:CEST
DTSTART:20200329T010000
END:DAYLIGHT
BEGIN:STANDARD
TZOFFSETFROM:+0200
TZOFFSETTO:+0100
TZNAME:CET
DTSTART:20201025T010000
END:STANDARD
END:VTIMEZONE
BEGIN:VEVENT
DTSTART;TZID=Europe/Berlin:20190629T093000
DTEND;TZID=Europe/Berlin:20190629T170000
DTSTAMP:20260424T124606
CREATED:20181220T204413Z
LAST-MODIFIED:20190529T172146Z
UID:904-1561800600-1561827600@kendo.ch
SUMMARY:Iaido Seminar\, mit Stefano Ferro Sensei & Robert Senn Sensei\, 29. Juni 2019
DESCRIPTION:Ort:     \nTurnhalle (rot) \, Schule Kirchbühl Sud\, Kirchbühlstrasse 22\, 8712 Stäfa \nZeit: \nSamstag 29. Juni 2019\, 09.30 – 17.00  \nLeitung: \nStefano Ferro Sensei\,  6. Dan Iaido Renshi \nRobert Senn Sensei\,  6. Dan Iaido \nHalle Organisation: \nJ-C Tsukuri\, Stäfa \nKosten: \n20\,- SFr  \nTeilnehmer: \nIaidokas von Anfänger bis Fortgeschrittenen. \nMittagessen: \nEs gibt Kaffee und kalten Getränken zur Verfügung. \nBitte eure eigenes Mittagessen mitbringen. \nAnmeldung: \nAlle Anmeldungen für das Training via dieser Google Formular bitte: \nhttps://forms.gle/ijeV3gx1ug6UGXBg8 \nVersicherung\, Unterkunft und Verpflegung sollte jeder selbst organisieren.
URL:https://kendo.ch/event/iaido-gemeinschafts-training-2/
LOCATION:Turnhalle (rot) Schule Kirchbühl Sud\, Kirchbühlstrasse 22\, Stäfa\, 8712\, Schweiz
CATEGORIES:Iaido,Seminar
ATTACH;FMTTYPE=image/jpeg:https://kendo.ch/wp-content/uploads/2018/05/Utagawa-Hiroshige-Suido-Bridge-Surugadai-Quarter.jpg
ORGANIZER;CN="Swiss Kendo + Iaido":MAILTO:info@kendo.ch
END:VEVENT
END:VCALENDAR