BEGIN:VCALENDAR
VERSION:2.0
PRODID:-//SKI Official site for kendo, iaido and jodo in Switzerland - ECPv6.15.20//NONSGML v1.0//EN
CALSCALE:GREGORIAN
METHOD:PUBLISH
X-WR-CALNAME:SKI Official site for kendo, iaido and jodo in Switzerland
X-ORIGINAL-URL:https://kendo.ch
X-WR-CALDESC:Veranstaltungen für SKI Official site for kendo, iaido and jodo in Switzerland
REFRESH-INTERVAL;VALUE=DURATION:PT1H
X-Robots-Tag:noindex
X-PUBLISHED-TTL:PT1H
BEGIN:VTIMEZONE
TZID:Europe/Berlin
BEGIN:DAYLIGHT
TZOFFSETFROM:+0100
TZOFFSETTO:+0200
TZNAME:CEST
DTSTART:20180325T010000
END:DAYLIGHT
BEGIN:STANDARD
TZOFFSETFROM:+0200
TZOFFSETTO:+0100
TZNAME:CET
DTSTART:20181028T010000
END:STANDARD
BEGIN:DAYLIGHT
TZOFFSETFROM:+0100
TZOFFSETTO:+0200
TZNAME:CEST
DTSTART:20190331T010000
END:DAYLIGHT
BEGIN:STANDARD
TZOFFSETFROM:+0200
TZOFFSETTO:+0100
TZNAME:CET
DTSTART:20191027T010000
END:STANDARD
BEGIN:DAYLIGHT
TZOFFSETFROM:+0100
TZOFFSETTO:+0200
TZNAME:CEST
DTSTART:20200329T010000
END:DAYLIGHT
BEGIN:STANDARD
TZOFFSETFROM:+0200
TZOFFSETTO:+0100
TZNAME:CET
DTSTART:20201025T010000
END:STANDARD
END:VTIMEZONE
BEGIN:VEVENT
DTSTART;VALUE=DATE:20191101
DTEND;VALUE=DATE:20191104
DTSTAMP:20260424T040325
CREATED:20181228T004321Z
LAST-MODIFIED:20190728T103519Z
UID:948-1572566400-1572825599@kendo.ch
SUMMARY:26th European Iaido Championships\, Athens\, Greece
DESCRIPTION:Allen Informations sind auf: \nwww.26eic2019.gr
URL:https://kendo.ch/event/6th-european-iaido-championships-athens-greece/
LOCATION:Athens\, Athens\, Griechenland
CATEGORIES:Championship,Grading,Iaido,Seminar,Taikai
ATTACH;FMTTYPE=image/jpeg:https://kendo.ch/wp-content/uploads/2018/12/EIC-2019-logo.jpg
END:VEVENT
BEGIN:VEVENT
DTSTART;TZID=Europe/Berlin:20191123T093000
DTEND;TZID=Europe/Berlin:20191124T160000
DTSTAMP:20260424T040325
CREATED:20181220T205835Z
LAST-MODIFIED:20190918T193302Z
UID:923-1574501400-1574611200@kendo.ch
SUMMARY:2019 Iaido & Jodo Jahresabschluss Training & Prüfungen & Abendessen
DESCRIPTION:Ort: \nTurnhalle Pestalozzi\, Stockhornstrasse 23\, 3600 Thun \nIaido: \nSamstag 23. November 2019\, 9.30 – 17:00 Uhr\, Training und Prüfungen von 2. Kyu bis 3. Dan \nJodo: \nSonntag 24. November 2019\, 9.30 – 16.00 Uhr\, Training und Prüfungen von 1. Kyu bis 3. Dan                                                                          \nLeitung Iaido: \nRené van Amersfoort Sensei 7. Dan Iaido Kyoshi \nLeitung Jodo: \nRené van Amersfoort Sensei 8. Dan Jodo Kyoshi \nTeilnehmer: \nIaidoka und Jodoka von Anfänger bis Fortgeschrittenen.   \nKosten: \nSeminar:  Iaido = 30.00 SFr\, Jodo = 30.00 SFr \nPrüfungs + Registrierungs-Gebuhren: \n  \n2 Kyu (Iaido): 20.00 + 20.00 SFr \n1 Kyu (Jodo oder Iaido): 20.00 + 30.00 SFr \n1 Dan (Jodo oder Iaido): 30.00 + 40.00 SFr \n2 Dan (Jodo oder Iaido): 40.00 + 50.00 SFr \n3 Dan (Jodo oder Iaido): 50.00 + 60.00 SFr \nMittagessen: \nEs gibt Kaffee und kalten Getränken\,bitte eure eigenes Mittagessen mitbringen. \nSamstag Abend: \nWir organisieren ein gemeinsames Abendessen. \nHalle Organisation: \nKenseikei Uni Bern \nAnmeldung: \nAlle Anmeldungen für das Training und Abendessen am Samstag auf diese Formular bitte: \nhttps://forms.gle/j3WiWbVfJeF7TRTM7 \nFür Prüfungen mit diese Formular bitte: \nhttps://forms.gle/tPhT2acAahcVMDz6A. \nWichtig: \nAnmeldeschluss für Iaido Prüfungen ist am 13. November 2019 \nAnmeldeschluss für Jodo Prüfungen ist am 14. November 2019 \nVersicherung\, Unterkunft und Verpflegung sollte jeder selbst organisieren.
URL:https://kendo.ch/event/iaido-jodo-jahresabschluss-seminar-pruefungen/
LOCATION:Turnhalle Pestalozzi\, Stockhornstrasse 23\, Thun\, 3600\, Schweiz
CATEGORIES:Grading,Iaido,Jodo,Seminar
ATTACH;FMTTYPE=image/jpeg:https://kendo.ch/wp-content/uploads/2018/12/Katsushika-Hokusai-south-wind-clear-dawn-red-Fuji.jpg
END:VEVENT
END:VCALENDAR