BEGIN:VCALENDAR
VERSION:2.0
PRODID:-//SKI Official site for kendo, iaido and jodo in Switzerland - ECPv6.15.20//NONSGML v1.0//EN
CALSCALE:GREGORIAN
METHOD:PUBLISH
X-WR-CALNAME:SKI Official site for kendo, iaido and jodo in Switzerland
X-ORIGINAL-URL:https://kendo.ch
X-WR-CALDESC:Veranstaltungen für SKI Official site for kendo, iaido and jodo in Switzerland
REFRESH-INTERVAL;VALUE=DURATION:PT1H
X-Robots-Tag:noindex
X-PUBLISHED-TTL:PT1H
BEGIN:VTIMEZONE
TZID:Europe/Berlin
BEGIN:DAYLIGHT
TZOFFSETFROM:+0100
TZOFFSETTO:+0200
TZNAME:CEST
DTSTART:20210328T010000
END:DAYLIGHT
BEGIN:STANDARD
TZOFFSETFROM:+0200
TZOFFSETTO:+0100
TZNAME:CET
DTSTART:20211031T010000
END:STANDARD
BEGIN:DAYLIGHT
TZOFFSETFROM:+0100
TZOFFSETTO:+0200
TZNAME:CEST
DTSTART:20220327T010000
END:DAYLIGHT
BEGIN:STANDARD
TZOFFSETFROM:+0200
TZOFFSETTO:+0100
TZNAME:CET
DTSTART:20221030T010000
END:STANDARD
BEGIN:DAYLIGHT
TZOFFSETFROM:+0100
TZOFFSETTO:+0200
TZNAME:CEST
DTSTART:20230326T010000
END:DAYLIGHT
BEGIN:STANDARD
TZOFFSETFROM:+0200
TZOFFSETTO:+0100
TZNAME:CET
DTSTART:20231029T010000
END:STANDARD
END:VTIMEZONE
BEGIN:VEVENT
DTSTART;TZID=Europe/Berlin:20220219T093000
DTEND;TZID=Europe/Berlin:20220219T170000
DTSTAMP:20260421T231252
CREATED:20220108T123825Z
LAST-MODIFIED:20220128T120544Z
UID:1536-1645263000-1645290000@kendo.ch
SUMMARY:Kihon\, Iaido Schweizermeisterschaften Vorbereitung & ZNKR Iaido Kata Seminar mit Stefano Ferro Sensei & Robert Senn Sensei
DESCRIPTION:Ort:   Halle 2\, VS Wankdorf\, Morgartenstrasse 2\, 3014 Bern \nZeit:  Samstag 19. Februar 2022\, 09.30 – 17.00      \nLeitung:  Stefano Ferro Sensei\, 6. Dan Iaido Renshi & Robert Senn Sensei\, 6. Dan Iaido \nHalle Organisation:  Shin Ho Kan\, Bern \nKosten:  20\,- SFr   Zahlung mit TWINT möglich \nTeilnehmer:  Iaidokas von Anfänger bis Fortgeschrittenen. \nMittagessen:  Es gibt Kaffee und kalten Getränken zur Verfügung.   Bitte eure eigenes Mittagessen mitbringen. \nAnmeldung:  Alle Anmeldungen für das Training via dieser Google Formular bitte: \nhttps://forms.gle/KM6PJG28ZCiS1iKPA \nVersicherung\, Unterkunft und Verpflegung sollte jeder selbst organisieren.
URL:https://kendo.ch/event/iaido-seminar-ch/
LOCATION:Sekundarschule Wankdorf\, Morgartenstrasse 2\, Bern\, 3014\, Schweiz
CATEGORIES:Iaido,Seminar
ATTACH;FMTTYPE=image/png:https://kendo.ch/wp-content/uploads/2022/01/Vocab.png
ORGANIZER;CN="Swiss Kendo + Iaido":MAILTO:info@kendo.ch
END:VEVENT
END:VCALENDAR