BEGIN:VCALENDAR
VERSION:2.0
PRODID:-//SKI Official site for kendo, iaido and jodo in Switzerland - ECPv6.15.20//NONSGML v1.0//EN
CALSCALE:GREGORIAN
METHOD:PUBLISH
X-WR-CALNAME:SKI Official site for kendo, iaido and jodo in Switzerland
X-ORIGINAL-URL:https://kendo.ch
X-WR-CALDESC:Veranstaltungen für SKI Official site for kendo, iaido and jodo in Switzerland
REFRESH-INTERVAL;VALUE=DURATION:PT1H
X-Robots-Tag:noindex
X-PUBLISHED-TTL:PT1H
BEGIN:VTIMEZONE
TZID:Europe/Berlin
BEGIN:DAYLIGHT
TZOFFSETFROM:+0100
TZOFFSETTO:+0200
TZNAME:CEST
DTSTART:20210328T010000
END:DAYLIGHT
BEGIN:STANDARD
TZOFFSETFROM:+0200
TZOFFSETTO:+0100
TZNAME:CET
DTSTART:20211031T010000
END:STANDARD
BEGIN:DAYLIGHT
TZOFFSETFROM:+0100
TZOFFSETTO:+0200
TZNAME:CEST
DTSTART:20220327T010000
END:DAYLIGHT
BEGIN:STANDARD
TZOFFSETFROM:+0200
TZOFFSETTO:+0100
TZNAME:CET
DTSTART:20221030T010000
END:STANDARD
BEGIN:DAYLIGHT
TZOFFSETFROM:+0100
TZOFFSETTO:+0200
TZNAME:CEST
DTSTART:20230326T010000
END:DAYLIGHT
BEGIN:STANDARD
TZOFFSETFROM:+0200
TZOFFSETTO:+0100
TZNAME:CET
DTSTART:20231029T010000
END:STANDARD
END:VTIMEZONE
BEGIN:VEVENT
DTSTART;TZID=Europe/Berlin:20220514T093000
DTEND;TZID=Europe/Berlin:20220515T150000
DTSTAMP:20260421T181828
CREATED:20220108T124157Z
LAST-MODIFIED:20220409T123528Z
UID:1540-1652520600-1652626800@kendo.ch
SUMMARY:Iaido Seminar mit René van Amersfoort Sensei
DESCRIPTION:Ort:   Turnhalle 2\, VS Wankdorf\, Morgartenstrasse 2\, 3014 Bern                                               \nZeit:  Samstag 14. Mai 2022\, (ZNKR Iaido)\, 09:30 – 17:00 \nSonntag 15. Mai 2022\, (Muso Shinden Ryu Iaido)\, 09.30 – 15.00                                                            \nLeitung:  René van Amersfoort Sensei\,  7. Dan Kyoshi Iaido \nHalle Organisation:  Shin Ho Kan\, Bern \nKosten:  1 Tag:  40\,- SFr\, 2 Tagen:  60\,- SFr\, Zahlung mit TWINT möglich \nTeilnehmer & Programm:  Iaidokas von Anfänger bis Fortgeschrittenen.  Samstag:  ZNKR Iaido.  Sonntag:  Muso Shinden Ryu Koyru Iaido \nMittagessen:  Es gibt Kaffee und kalten Getränken zur Verfügung.  Bitte eure eigenen Mittagessen mitbringen. \nSamstag Abend:  Wir organisieren ein gemeinsames Abendessen in Bern. \nAnmeldung:  Alle Anmeldungen für das Training und Abendessen via dieser Google Formular bitte: \nhttps://forms.gle/PeXZ1W9b8zWheFqQ7 \nVersicherung\, Unterkunft und Verpflegung sollte jeder selbst organisieren.
URL:https://kendo.ch/event/iaido-seminar-ch-3/
LOCATION:Sekundarschule Wankdorf\, Morgartenstrasse 2\, Bern\, 3014\, Schweiz
CATEGORIES:Iaido,Seminar
ATTACH;FMTTYPE=image/jpeg:https://kendo.ch/wp-content/uploads/2021/09/Toyohara-Kunichika-Nakamura-Shikan-IV-as-Nitta-Umejiro-soldiers-escaping-to-Mikawashima.jpg
ORGANIZER;CN="Swiss Kendo + Iaido":MAILTO:info@kendo.ch
END:VEVENT
END:VCALENDAR