BEGIN:VCALENDAR
VERSION:2.0
PRODID:-//SKI Official site for kendo, iaido and jodo in Switzerland - ECPv6.15.20//NONSGML v1.0//EN
CALSCALE:GREGORIAN
METHOD:PUBLISH
X-ORIGINAL-URL:https://kendo.ch
X-WR-CALDESC:Veranstaltungen für SKI Official site for kendo, iaido and jodo in Switzerland
REFRESH-INTERVAL;VALUE=DURATION:PT1H
X-Robots-Tag:noindex
X-PUBLISHED-TTL:PT1H
BEGIN:VTIMEZONE
TZID:Europe/Berlin
BEGIN:DAYLIGHT
TZOFFSETFROM:+0100
TZOFFSETTO:+0200
TZNAME:CEST
DTSTART:20210328T010000
END:DAYLIGHT
BEGIN:STANDARD
TZOFFSETFROM:+0200
TZOFFSETTO:+0100
TZNAME:CET
DTSTART:20211031T010000
END:STANDARD
BEGIN:DAYLIGHT
TZOFFSETFROM:+0100
TZOFFSETTO:+0200
TZNAME:CEST
DTSTART:20220327T010000
END:DAYLIGHT
BEGIN:STANDARD
TZOFFSETFROM:+0200
TZOFFSETTO:+0100
TZNAME:CET
DTSTART:20221030T010000
END:STANDARD
BEGIN:DAYLIGHT
TZOFFSETFROM:+0100
TZOFFSETTO:+0200
TZNAME:CEST
DTSTART:20230326T010000
END:DAYLIGHT
BEGIN:STANDARD
TZOFFSETFROM:+0200
TZOFFSETTO:+0100
TZNAME:CET
DTSTART:20231029T010000
END:STANDARD
END:VTIMEZONE
BEGIN:VEVENT
DTSTART;TZID=Europe/Berlin:20220625T093000
DTEND;TZID=Europe/Berlin:20220625T170000
DTSTAMP:20260421T164618
CREATED:20220108T124304Z
LAST-MODIFIED:20220426T200830Z
UID:1542-1656149400-1656176400@kendo.ch
SUMMARY:Iaido Seminar mit Stefano Ferro Sensei & Robert Senn Sensei
DESCRIPTION:Ort:   Halle 2\, Turnhalle Marzili\, Brückenstrasse 71\, 3005 Bern \nZeit:  Samstag 25. Juni 2022\, 09.30 – 17.00        \nLeitung:  Stefano Ferro Sensei\, Iaido Renshi 6. Dan & Robert Senn Sensei\, Iaido 6. Dan \nHalle Organisation:  Shin Ho Kan\, Bern \nKosten: 20\,- SFr                                     Zahlung mit TWINT möglich \nTeilnehmer:  Iaidokas von Anfänger bis Fortgeschrittenen. \nMittagessen:  Es gibt Kaffee und kalten Getränken zur Verfügung.   Bitte eure eigenes Mittagessen mitbringen. \nSamstag Abend:  Wir organisieren ein gemeinsames Abendessen in Bern. \nAnmeldung:  Alle Anmeldungen für das Training und Abendessen via dieser Google Formular bitte: \nhttps://forms.gle/rybKCyx8Ek6vRB5m8 \nVersicherung\, Unterkunft und Verpflegung sollte jeder selbst organisieren. \nAdditional Special Trainings: \nDonnerstag 23. Juni 2022 18.00-19.30 High Level Iaido Training für Prüfungen 5. 6. und 7. Dan mit René Sensei @Shin Ho Kan Bern\, Turnhalle Schwabgut\, Keltenstrasse 43\, 3018 Bern. \nMontag 27. Juni 2022 18.00-20.00 High Level Iaido Training für Prüfungen 5. 6. und 7. Dan mit René Sensei @Shin Ho Kan Bern\, Turnhalle Schwabgut\, Keltenstrasse 43\, 3018 Bern.
URL:https://kendo.ch/event/iaido-seminar-ch-4/
LOCATION:Turnhalle Marzili\, Brückenstrasse 71\, Bern\, 3005\, Schweiz
CATEGORIES:Iaido,Seminar
ATTACH;FMTTYPE=image/jpeg:https://kendo.ch/wp-content/uploads/2022/01/Katsukawa-Shuntei-the-warrior-Egara-no-Heita-battling-a-giant-serpent.jpg
ORGANIZER;CN="Swiss Kendo + Iaido":MAILTO:info@kendo.ch
END:VEVENT
END:VCALENDAR