BEGIN:VCALENDAR
VERSION:2.0
PRODID:-//SKI Official site for kendo, iaido and jodo in Switzerland - ECPv6.15.20//NONSGML v1.0//EN
CALSCALE:GREGORIAN
METHOD:PUBLISH
X-ORIGINAL-URL:https://kendo.ch
X-WR-CALDESC:Veranstaltungen für SKI Official site for kendo, iaido and jodo in Switzerland
REFRESH-INTERVAL;VALUE=DURATION:PT1H
X-Robots-Tag:noindex
X-PUBLISHED-TTL:PT1H
BEGIN:VTIMEZONE
TZID:Europe/Berlin
BEGIN:DAYLIGHT
TZOFFSETFROM:+0100
TZOFFSETTO:+0200
TZNAME:CEST
DTSTART:20210328T010000
END:DAYLIGHT
BEGIN:STANDARD
TZOFFSETFROM:+0200
TZOFFSETTO:+0100
TZNAME:CET
DTSTART:20211031T010000
END:STANDARD
BEGIN:DAYLIGHT
TZOFFSETFROM:+0100
TZOFFSETTO:+0200
TZNAME:CEST
DTSTART:20220327T010000
END:DAYLIGHT
BEGIN:STANDARD
TZOFFSETFROM:+0200
TZOFFSETTO:+0100
TZNAME:CET
DTSTART:20221030T010000
END:STANDARD
BEGIN:DAYLIGHT
TZOFFSETFROM:+0100
TZOFFSETTO:+0200
TZNAME:CEST
DTSTART:20230326T010000
END:DAYLIGHT
BEGIN:STANDARD
TZOFFSETFROM:+0200
TZOFFSETTO:+0100
TZNAME:CET
DTSTART:20231029T010000
END:STANDARD
END:VTIMEZONE
BEGIN:VEVENT
DTSTART;TZID=Europe/Berlin:20221022T093000
DTEND;TZID=Europe/Berlin:20221022T170000
DTSTAMP:20260421T092221
CREATED:20220108T124742Z
LAST-MODIFIED:20220908T190929Z
UID:1552-1666431000-1666458000@kendo.ch
SUMMARY:Iaido Kihon\, Iaido Prüfungen Vorbereitung & ZNKR Iaido Kata\, Bern
DESCRIPTION:Ort:  Halle 2\, VS Wankdorf\, Morgartenstrasse 2\, 3014 Bern \nZeit:  Samstag 22. Oktober 2022\, 09.30 – 17.00      \nLeitung:  Stefano Ferro Sensei\, Iaido Renshi 7. Dan \nHalle Organisation:  Shin Ho Kan\, Bern \nKosten:  20\,- SFr\, Zahlung mit TWINT möglich \nTeilnehmer:  Iaidokas von Anfänger bis Fortgeschrittenen. \nMittagessen:  Es gibt Kaffee und kalten Getränken zur Verfügung.  Bitte eure eigenes Mittagessen mitbringen. \nAnmeldung:  Alle Anmeldungen für das Training via dieser Google Formular bitte: \nhttps://forms.gle/15SP4UT5m3JhaULf8 \nVersicherung\, Unterkunft und Verpflegung sollte jeder selbst organisieren.
URL:https://kendo.ch/event/tbc-iaido-seminar-ch-2/
LOCATION:Sekundarschule Wankdorf\, Morgartenstrasse 2\, Bern\, 3014\, Schweiz
CATEGORIES:Iaido,Seminar
ATTACH;FMTTYPE=image/jpeg:https://kendo.ch/wp-content/uploads/2022/01/A-large-waterfall.jpg
ORGANIZER;CN="Swiss Kendo + Iaido":MAILTO:info@kendo.ch
END:VEVENT
END:VCALENDAR