BEGIN:VCALENDAR
VERSION:2.0
PRODID:-//SKI Official site for kendo, iaido and jodo in Switzerland - ECPv6.15.20//NONSGML v1.0//EN
CALSCALE:GREGORIAN
METHOD:PUBLISH
X-WR-CALNAME:SKI Official site for kendo, iaido and jodo in Switzerland
X-ORIGINAL-URL:https://kendo.ch
X-WR-CALDESC:Veranstaltungen für SKI Official site for kendo, iaido and jodo in Switzerland
REFRESH-INTERVAL;VALUE=DURATION:PT1H
X-Robots-Tag:noindex
X-PUBLISHED-TTL:PT1H
BEGIN:VTIMEZONE
TZID:UTC
BEGIN:STANDARD
TZOFFSETFROM:+0000
TZOFFSETTO:+0000
TZNAME:UTC
DTSTART:20220101T000000
END:STANDARD
END:VTIMEZONE
BEGIN:VEVENT
DTSTART;VALUE=DATE:20230304
DTEND;VALUE=DATE:20230306
DTSTAMP:20260421T002529
CREATED:20220517T191449Z
LAST-MODIFIED:20221210T115024Z
UID:1712-1677888000-1678060799@kendo.ch
SUMMARY:16. Iaido Schweizermeisterschaften 2023
DESCRIPTION:Iaido Schweizermeisterschaft\, 04-05. März 2023\n\n  \nSamstag\, 04. März 2023\, Iaido Seminar mit anschliessend Schiedsrichter Seminar \n09.30 Uhr Hallenöffnung \n10:00 – 12:30 Uhr     Iaido Seminar für alle \n12:30 – 13:30 Uhr     Mittagspause \n13:30 – 15:45 Uhr     Iaido Seminar für alle \n16:00 – 17:00 Uhr     Iaido/Schiedsrichter Seminar für alle Teilnehmer \n17:00 – 18:00 Uhr     Einrichtung von der Halle \n19:00 Uhr Gemeinsames Nachtessen (Anmeldung auf dem Internetformular) \nSonntag\, 05. März 2022\, 16. Iaido Schweizermeisterschaft \n08.30 Uhr Hallenöffnung \n09:00 – 09:30 Uhr Iaido Open Training für alle \n09:30 Uhr Eröffnung Zeremonie anschliessend Einzel Taikai \nTeam Taikai \nRokudan & Nandan Embu \nca.16:00 Uhr Schluss-Zeremonie \nVerpflegung: \nIst selbst zu organisieren: Keine Verpflegung Möglichkeit in der Halle\, jeder ist für seine eigene Malzeit verantwortlich. \nKategorien: \nEinzel: \nEinzel: Kyu (Clubgrad <2. Kyu)\, Mudan (Verbandsgrad 1. & 2. Kyu)\, Shodan\, Nidan\, Sandan\, Yondan und Godan. \nTeam: \nDrei Iaidoka aus dem gleichen Club (max. ein 4. Dan pro Team\, bei nur zwei Iaidoka in einem Team geht der zweite Kampf verloren). Erlaubt sind zwei Teams pro Dojo. Ein Iaidoka kann nur für ein Team starten. \nSchiedsrichter: \nRené van Amersfoort (Kyoshi 7. Dan)\, Stefano Ferro (Renshi 7. Dan)\, Robert Senn (6. Dan)\, Matthew Sykes-Gelder (6. Dan) sowie die 5. Dan-Träger und ev. 4. Dan-Träger. \nAnmeldung: \nEinzel via Internetformular: 26. Februar 2023. Auf: https://forms.gle/aMRRsBzWMVSczJD76 \nTeilnameberechtigung: \nAlle Iaidoka\, welche offiziell als SKI-Mitglieder sind im Jahr 2022 und 2023. \nAbendessen am Samstag 19:00 Uhr: \nHotel Restaurant Puurehuus\, Fehraltorferstrasse 9\, 8615 Wermatswil.  Bestellen bis 24. Februar 2023 auf  https://forms.gle/qELXzBb6ysPihVMr7 \nSeminarkosten und Startgeld: \nDas Seminar und Startkosten sind bis 1. März 2023 auf das Konto des Swiss Kendo + Iaido zu überweisen. \nNur Seminar:                     30 CHF pro Person \nSeminar + Einzel Taikai:   40 CHF pro Person \nNur Einzel Taikai:              40 CHF pro Person \n Team Taikai:                       40 CHF pro Team \nÜbernachtung \nAls Übernachtungsmöglichkeiten: \nwww.puurehuus.com \nhttps://www.swiss-star-home.com/ \nhttp://hotel-rubus.ch/ \nÖffentliche-Transportmittels \nZug bis Bahnof Schwerzenbach ZH.  Bus B725 Richtung Uster Bahnhof\, bis Haltestelle Volketswil\, Zimikon. \nWeitere Informationen: \nFür weitere Informationen zu Iaido Schweizermeisterschaft bitte schriftlich via E-Mail: \nAn matthewsykesgelder@gmail.com. \nZahlungsadresse \nCH57 8080 8005 5668 5672 3                                      Swiss Kendo + Iaido \nBIC/Swift Code: RAIFCH22698                                     1003 Lausanne \nRaiffeisenbank Aarau-Lenzburg                                  Zahlungsvermerk «Iaido SM 2023» \n————————————————————————————————————————————- \nDer Veranstalter übernimmt keinerlei Haftung Versicherung ist Sache der teilnehmende. \nMit Teilnahme an dieser Veranstaltung erklärt jeder Teilnehmer/ jede Teilnehmerin explizit sein/ ihr Einverständnis\, dass Bilder und Videos von ihm/ ihr in allen Medien\, auch dem Internet\, veröffentlicht werden können.
URL:https://kendo.ch/event/iaido-schweizermeisterschaften-2023/
LOCATION:Schulhaus in der Höh\, In der Höh 11\, Volketswil\, 8604\, Schweiz
CATEGORIES:CH-Competition,Championship,Iaido,Schweizermeisterschaften,Seminar,Taikai
ATTACH;FMTTYPE=image/jpeg:https://kendo.ch/wp-content/uploads/2022/03/20220305_171718-scaled.jpg
END:VEVENT
END:VCALENDAR