BEGIN:VCALENDAR
VERSION:2.0
PRODID:-//SKI Official site for kendo, iaido and jodo in Switzerland - ECPv6.15.20//NONSGML v1.0//EN
CALSCALE:GREGORIAN
METHOD:PUBLISH
X-ORIGINAL-URL:https://kendo.ch
X-WR-CALDESC:Veranstaltungen für SKI Official site for kendo, iaido and jodo in Switzerland
REFRESH-INTERVAL;VALUE=DURATION:PT1H
X-Robots-Tag:noindex
X-PUBLISHED-TTL:PT1H
BEGIN:VTIMEZONE
TZID:UTC
BEGIN:STANDARD
TZOFFSETFROM:+0000
TZOFFSETTO:+0000
TZNAME:UTC
DTSTART:20220101T000000
END:STANDARD
END:VTIMEZONE
BEGIN:VEVENT
DTSTART;VALUE=DATE:20230413
DTEND;VALUE=DATE:20230417
DTSTAMP:20260420T224111
CREATED:20220517T191701Z
LAST-MODIFIED:20230331T154547Z
UID:1716-1681344000-1681689599@kendo.ch
SUMMARY:2023 Magglingen Iaido & Jodo seminar & gradings
DESCRIPTION:Jodo Sensei \nRené van Amersfoort Sensei\, Kyoshi 8th Dan \nLouis Vitalis Sensei\, Kyoshi 7th Dan \nTakao Moniyama Sensei\, Kyoshi 7th Dan \nAndré Schiebroek Sensei\, Kyoshi 7th Dan \nEdwin de Wit Sensei\, Kyoshi 7th Dan \nKarl Dannecker Sensei\, Kyoshi 7th Dan \nIaido Sensei \nMorita Tadahiko  Sensei\, Hanshi 8th Dan \nOshita Masakasu  Sensei\, Kyoshi 8th Dan \nKishimoto Takashi Sensei\, Kyoshi 7th Dan \nRené van Amersfoort Sensei\, Kyoshi 7th  Dan \nPeter West Sensei\, Kyoshi 7th Dan \nTakao Momiyama Sensei\, Kyoshi 7th Dan \nDanielle Borra Sensei\, Kyoshi 7th Dan \nAndré Schiebroek Sensei\, Kyoshi 7th Dan \nDetlef Uedelhoven Sensei\, Kyoshi 7th Dan \nPhilippe Merlier Sensei\, Kyoshi 7th Dan \nClaudio Zanoni Sensei\, Kyoshi 7th Dan \nCarlo Sappino Sensei\, Renshi 7th Dan \nStefano Ferro Sensei\, Renshi 7th Dan \nProgramme\nThursday 13th April 2023\, 09:00 to 17:00 \nJodo Seminar \nFriday 14th April 2023\, 09:00 to 12:00 \nJodo Seminar and Jodo gradings up to 5th Dan \nFriday 14th April 2023\, 14:00 to 17:00 \nIaido Seminar \n Saturday 15th April 2023\, 09:00 to 17:00 \nIaido Seminar and Iaido gradings up to 5th Dan \nSunday 16th April 2023\, 9:00 to 15:00 \nIaido Seminar \n\nLink zum Website: 2023 Magglingen Iaido & Jodo seminar & gradings
URL:https://kendo.ch/event/magglingen-iaido-jodo-seminar-2023/
LOCATION:Toto Sports Hall\, Hohmattstrasse\, Magglingen\, 2532
CATEGORIES:Grading,Iaido,Jodo,Seminar
ATTACH;FMTTYPE=image/png:https://kendo.ch/wp-content/uploads/2021/07/Logo-FB-tight.png
ORGANIZER;CN="Swiss Kendo + Iaido":MAILTO:info@kendo.ch
END:VEVENT
END:VCALENDAR