BEGIN:VCALENDAR
VERSION:2.0
PRODID:-//SKI Official site for kendo, iaido and jodo in Switzerland - ECPv6.15.20//NONSGML v1.0//EN
CALSCALE:GREGORIAN
METHOD:PUBLISH
X-WR-CALNAME:SKI Official site for kendo, iaido and jodo in Switzerland
X-ORIGINAL-URL:https://kendo.ch
X-WR-CALDESC:Veranstaltungen für SKI Official site for kendo, iaido and jodo in Switzerland
REFRESH-INTERVAL;VALUE=DURATION:PT1H
X-Robots-Tag:noindex
X-PUBLISHED-TTL:PT1H
BEGIN:VTIMEZONE
TZID:Europe/Berlin
BEGIN:DAYLIGHT
TZOFFSETFROM:+0100
TZOFFSETTO:+0200
TZNAME:CEST
DTSTART:20220327T010000
END:DAYLIGHT
BEGIN:STANDARD
TZOFFSETFROM:+0200
TZOFFSETTO:+0100
TZNAME:CET
DTSTART:20221030T010000
END:STANDARD
BEGIN:DAYLIGHT
TZOFFSETFROM:+0100
TZOFFSETTO:+0200
TZNAME:CEST
DTSTART:20230326T010000
END:DAYLIGHT
BEGIN:STANDARD
TZOFFSETFROM:+0200
TZOFFSETTO:+0100
TZNAME:CET
DTSTART:20231029T010000
END:STANDARD
BEGIN:DAYLIGHT
TZOFFSETFROM:+0100
TZOFFSETTO:+0200
TZNAME:CEST
DTSTART:20240331T010000
END:DAYLIGHT
BEGIN:STANDARD
TZOFFSETFROM:+0200
TZOFFSETTO:+0100
TZNAME:CET
DTSTART:20241027T010000
END:STANDARD
END:VTIMEZONE
BEGIN:VEVENT
DTSTART;TZID=Europe/Berlin:20230902T093000
DTEND;TZID=Europe/Berlin:20230902T170000
DTSTAMP:20260420T140430
CREATED:20230729T092628Z
LAST-MODIFIED:20230817T180453Z
UID:1981-1693647000-1693674000@kendo.ch
SUMMARY:Iaido Seminar mit Stefano Ferro Sensei & Matthew Sykes-Gelder Sensei\, Volketswil
DESCRIPTION:Ort:  Schulhaus Zentral\, Eichholzstrasse 11\, 8604 Volketswil  \nZeit:  Samstag 2. September 2023\, 09.30 – 17.00        \nLeitung:   \nStefano Ferro Sensei\, Iaido Renshi 7. Dan & Matthew Sykes-Gelder Sensei\, Iaido 6. Dan \nHalle Organisation:  Budo-Club Volketswil \nKosten: 20\,- SFr  (Zahlung mit TWINT möglich) \nTeilnehmer:  Iaidokas von Anfänger bis Fortgeschrittenen.  Wichtig für EIC Teilnehmer. \nMittagessen:  Es gibt Kaffee und kalten Getränken zur Verfügung.   Bitte eure eigenes Mittagessen mitbringen. \nAnmeldung:  Alle Anmeldungen für das Training via dieser Google Formular bitte:  Formular Volketswil \nVersicherung\, Unterkunft und Verpflegung sollte jeder selbst organisieren.
URL:https://kendo.ch/event/iaido-seminar-mit-stefano-ferro-sensei-matthew-sykes-gelder-sensei-volketswil/
LOCATION:Schulhaus Zentral\, Eichholzstrasse 11\, 8604 Volketswil\, Schulhaus Zentral\, Eichholzstrasse 11\, Volketswil\, 8604
CATEGORIES:Iaido,Seminar
ATTACH;FMTTYPE=image/jpeg:https://kendo.ch/wp-content/uploads/2023/07/Mount-Fuji-seen-above-mist-on-the-Tama-River-e1690396810588.jpg
ORGANIZER;CN="Swiss Kendo + Iaido":MAILTO:info@kendo.ch
END:VEVENT
BEGIN:VEVENT
DTSTART;TZID=Europe/Berlin:20230930T093000
DTEND;TZID=Europe/Berlin:20230930T170000
DTSTAMP:20260420T140430
CREATED:20230729T092951Z
LAST-MODIFIED:20230817T180420Z
UID:1988-1696066200-1696093200@kendo.ch
SUMMARY:Iaido Seminar mit Robert Senn Sensei & Matthew Sykes-Gelder Sensei\, Kriens
DESCRIPTION:Ort:  Schulhaus Brunnmatt\, Brunnmattstrasse 5\, 6010 Kriens \nZeit:  Samstag 30. September 2023\, 09.30 – 17.00        \nLeitung:   \nStefano Ferro Sensei\, Iaido Renshi 7. Dan\, Robert Senn Sensei\, Iaido Renshi 6. Dan & Matthew Sykes-Gelder Sensei\, Iaido 6. Dan \nHalle Organisation:  Kendo-Club Kriens \nKosten: 20\,- SFr  (Zahlung mit TWINT möglich) \nTeilnehmer:  Iaidokas von Anfänger bis Fortgeschrittenen.  Wichtig für EIC Teilnehmer. \nMittagessen:  Es gibt Kaffee und kalten Getränken zur Verfügung.   Bitte eure eigenes Mittagessen mitbringen. \nAnmeldung:  Alle Anmeldungen für das Training via dieser Google Formular bitte:  Formular Kriens \nVersicherung\, Unterkunft und Verpflegung sollte jeder selbst organisieren.
URL:https://kendo.ch/event/iaido-seminar-mit-stefano-ferro-sensei-robert-senn-sensei-matthew-sykes-gelder-sensei-kriens/
LOCATION:Schulhaus Brunnmatt\, Brunnmattstrasse 5\, Kriens\, 6010\, Schweiz
CATEGORIES:Iaido,Seminar
ATTACH;FMTTYPE=image/jpeg:https://kendo.ch/wp-content/uploads/2023/07/The-moon-over-a-waterfall.jpg
END:VEVENT
END:VCALENDAR