BEGIN:VCALENDAR
VERSION:2.0
PRODID:-//SKI Official site for kendo, iaido and jodo in Switzerland - ECPv6.15.20//NONSGML v1.0//EN
CALSCALE:GREGORIAN
METHOD:PUBLISH
X-WR-CALNAME:SKI Official site for kendo, iaido and jodo in Switzerland
X-ORIGINAL-URL:https://kendo.ch
X-WR-CALDESC:Veranstaltungen für SKI Official site for kendo, iaido and jodo in Switzerland
REFRESH-INTERVAL;VALUE=DURATION:PT1H
X-Robots-Tag:noindex
X-PUBLISHED-TTL:PT1H
BEGIN:VTIMEZONE
TZID:Europe/Berlin
BEGIN:DAYLIGHT
TZOFFSETFROM:+0100
TZOFFSETTO:+0200
TZNAME:CEST
DTSTART:20230326T010000
END:DAYLIGHT
BEGIN:STANDARD
TZOFFSETFROM:+0200
TZOFFSETTO:+0100
TZNAME:CET
DTSTART:20231029T010000
END:STANDARD
BEGIN:DAYLIGHT
TZOFFSETFROM:+0100
TZOFFSETTO:+0200
TZNAME:CEST
DTSTART:20240331T010000
END:DAYLIGHT
BEGIN:STANDARD
TZOFFSETFROM:+0200
TZOFFSETTO:+0100
TZNAME:CET
DTSTART:20241027T010000
END:STANDARD
BEGIN:DAYLIGHT
TZOFFSETFROM:+0100
TZOFFSETTO:+0200
TZNAME:CEST
DTSTART:20250330T010000
END:DAYLIGHT
BEGIN:STANDARD
TZOFFSETFROM:+0200
TZOFFSETTO:+0100
TZNAME:CET
DTSTART:20251026T010000
END:STANDARD
END:VTIMEZONE
BEGIN:VEVENT
DTSTART;TZID=Europe/Berlin:20240126T200000
DTEND;TZID=Europe/Berlin:20240128T163000
DTSTAMP:20260420T072241
CREATED:20230606T180632Z
LAST-MODIFIED:20231107T191711Z
UID:1897-1706299200-1706459400@kendo.ch
SUMMARY:Iaido Seminar with Oliver Bischoff Sensei\, Detlef Uedelhoven Sensei and Stefano Ferro Sensei
DESCRIPTION:OLIVER BISCHOFF SENSEI\,  IAIDO RENSHI 7th DAN \nDETLEF UEDELHOVEN SENSEI\, IAIDO KYOSHI 7th DAN \nSTEFANO FERRO SENSEI\, IAIDO RENSHI 7th DAN \nFriday\, January 26\, 2024 – DOJO LEADER TRAINING – 20:00 – 21:30\nSaturday\, January 27\, 2024 – ZEN NIPPON KENDO RENMEI IAI – 09:30 – 17:30\nSunday\, January 28\, 2024 – IAIDO MUSO JIKIDEN EISHIN RYU & MUSO SHINDEN RYU – 09:30 – 16:30 \nAddresses \nFriday: Turnhalle Schulhaus Beewies\, Etzelstrasse 35\, 8712 Stäfa \nSaturday & Sunday: Doppelturnhalle Hasenacker\, Glaernischstrasse 233\, 8708 Maennedorf \nSeminar fees (Payment on arrival. CHF-TWINT possible) \nFriday:  Free of charge \nSaturday & Sunday: 1 day CHF 60\,- (Students CHF 50\,- )\, Guests € 50\,-; 2 days CHF 90\,- (Students CHF 75\,-)\, Guests € 75\,- \nFood \nLunch per day CHF 10.– / € 10.– \nSaturday evening buffet-dinner CHF 25.– / € 25.– \nOrganisation \nRobert & Mirjam Senn\, www.jc-tsukuri.ch \nRegistration \nKindly register until January 21\, 2024 Registration Form \nAccommodation \nB&B House of Harmony\, Harmoniestrasse 5\, 8712 Staefa \nInsurance At the full responsibility of the Iaidoka
URL:https://kendo.ch/event/iaido-seminar-mit-peter-west-sensei-und-detlef-uedelhoven-sensei-2/
LOCATION:Doppelturnhalle Hasenacker\, Glärnischstrasse 233\, 8708 Männedorf\, Doppelturnhalle Hasenacker\, Glärnischstrasse 233\,\, Männedorf\, 8708\, Schweiz
CATEGORIES:Iaido,Seminar
ATTACH;FMTTYPE=image/png:https://kendo.ch/wp-content/uploads/2023/06/Jan-Iaido-Maennerdorf.png
END:VEVENT
END:VCALENDAR