BEGIN:VCALENDAR
VERSION:2.0
PRODID:-//SKI Official site for kendo, iaido and jodo in Switzerland - ECPv6.15.20//NONSGML v1.0//EN
CALSCALE:GREGORIAN
METHOD:PUBLISH
X-ORIGINAL-URL:https://kendo.ch
X-WR-CALDESC:Veranstaltungen für SKI Official site for kendo, iaido and jodo in Switzerland
REFRESH-INTERVAL;VALUE=DURATION:PT1H
X-Robots-Tag:noindex
X-PUBLISHED-TTL:PT1H
BEGIN:VTIMEZONE
TZID:Europe/Berlin
BEGIN:DAYLIGHT
TZOFFSETFROM:+0100
TZOFFSETTO:+0200
TZNAME:CEST
DTSTART:20230326T010000
END:DAYLIGHT
BEGIN:STANDARD
TZOFFSETFROM:+0200
TZOFFSETTO:+0100
TZNAME:CET
DTSTART:20231029T010000
END:STANDARD
BEGIN:DAYLIGHT
TZOFFSETFROM:+0100
TZOFFSETTO:+0200
TZNAME:CEST
DTSTART:20240331T010000
END:DAYLIGHT
BEGIN:STANDARD
TZOFFSETFROM:+0200
TZOFFSETTO:+0100
TZNAME:CET
DTSTART:20241027T010000
END:STANDARD
BEGIN:DAYLIGHT
TZOFFSETFROM:+0100
TZOFFSETTO:+0200
TZNAME:CEST
DTSTART:20250330T010000
END:DAYLIGHT
BEGIN:STANDARD
TZOFFSETFROM:+0200
TZOFFSETTO:+0100
TZNAME:CET
DTSTART:20251026T010000
END:STANDARD
END:VTIMEZONE
BEGIN:VEVENT
DTSTART;TZID=Europe/Berlin:20240525T093000
DTEND;TZID=Europe/Berlin:20240525T170000
DTSTAMP:20260419T235939
CREATED:20240130T185708Z
LAST-MODIFIED:20240327T175505Z
UID:2241-1716629400-1716656400@kendo.ch
SUMMARY:Iaido Seminar mit Stefano Ferro Sensei
DESCRIPTION:Ort:  VS Wankdorf\, Halle 2\, Morgartenstrasse 2\, 3014 Bern \nZeit:  Samstag 25. Mai 2024\, 09.30 – 17.00        \nLeitung:  Stefano Ferro Sensei\, Iaido Renshi 7. Dan \nHalle Organisation:  Shin Ho Kan Bern \nKosten: 25\,- SFr  (Zahlung mit TWINT möglich) \nTeilnehmer:  Iaidokas von Anfänger bis Fortgeschrittenen \nMittagessen:  Es gibt Kaffee und kalten Getränken zur Verfügung.   Bitte eure eigenes Mittagessen mitbringen. \nAnmeldung:  Alle Anmeldungen für das Training via dieser Google Formular bitte:   \nIaido Seminar Bern \nVersicherung\, Unterkunft und Verpflegung sollte jeder selbst organisieren.
URL:https://kendo.ch/event/iaido-seminar-in-die-schweiz/
LOCATION:Sekundarschule Wankdorf\, Morgartenstrasse 2\, Bern\, 3014\, Schweiz
CATEGORIES:Iaido,Seminar
ATTACH;FMTTYPE=image/jpeg:https://kendo.ch/wp-content/uploads/2023/07/A-mountainous-landscape-with-a-bridge.jpg
ORGANIZER;CN="Swiss Kendo + Iaido":MAILTO:info@kendo.ch
END:VEVENT
END:VCALENDAR