BEGIN:VCALENDAR
VERSION:2.0
PRODID:-//SKI Official site for kendo, iaido and jodo in Switzerland - ECPv6.15.20//NONSGML v1.0//EN
CALSCALE:GREGORIAN
METHOD:PUBLISH
X-ORIGINAL-URL:https://kendo.ch
X-WR-CALDESC:Veranstaltungen für SKI Official site for kendo, iaido and jodo in Switzerland
REFRESH-INTERVAL;VALUE=DURATION:PT1H
X-Robots-Tag:noindex
X-PUBLISHED-TTL:PT1H
BEGIN:VTIMEZONE
TZID:UTC
BEGIN:STANDARD
TZOFFSETFROM:+0000
TZOFFSETTO:+0000
TZNAME:UTC
DTSTART:20220101T000000
END:STANDARD
END:VTIMEZONE
BEGIN:VEVENT
DTSTART;TZID=UTC:20230120T200000
DTEND;TZID=UTC:20230122T163000
DTSTAMP:20260422T102255
CREATED:20221025T184426Z
LAST-MODIFIED:20221025T184739Z
UID:1801-1674244800-1674405000@kendo.ch
SUMMARY:Iaido Seminar Stäfa & Männedorf
DESCRIPTION:Mit Peter West Sensei\, Iaido Kysohi\, 7. Dan & Detlef Uedelhoven Sensei\, Iaido Kysohi\, 7. Dan \nFreitag\, 20. Januar 2023 DOJO LEADER TRAINING 20:00-21:30\nSamstag\, 21. Januar 2023 ZEN NIPPON KENDO RENMEI IAI 09:30-17:00\nSonntag\, 22. Januar 2023 MUSO JIKIDEN EISHIN RYU – Koryu 09:30-16:30 \nOrt FR: Turnhalle Schulhaus Beewies\, Etzelstrasse 35\, CH-8712 Stäfa\nSA + SO: Doppelturnhalle Hasenacker\, Glärnischstrasse 233\, 8708 Männedorf \nSeminar 1 Tag CHF 60.- / Studenten CHF 50.- / Gäste EUR 50.- / Gäste GBP 50.- \nSeminar 2 Tage CHF 90.- / Studenten CHF 75.- / Gäste EUR 75.- / Gäste GBP 75.- \nLunch pro Tag CHF 10.- /EUR 10.- /GBP 10.-   Bezahlung vor Ort\, CHF-TWINT möglich\nDinner SA 21.01. CHF 15.- /EUR 15.- /GBP 15.-\nAllfällige Preisreduktion\, abhängig von Teilnehmerzahl. Info am Seminar. \nOrganisation Robert & Mirjam Senn www.jc-tsukuri.ch \nAnmeldung Ideal bis 15. Januar 2023 senden an mirjam.senn@bluewin.ch +41 76 480 78 13\nName __________________________ Vorname _______________________\nClub __________________________ Grad DAN / KYU \nSeminar  FR  SA  SO Lunch  Ja  Nein  Vegetarier\nDinner SA  Ja  Nein  Vegetarier \nÜbernachtung B&B House of Harmony\, Harmoniestrasse 5\, 8712 Stäfa www.hoh.international\nVersicherung ist vollumfänglich Sache der Iaidoka
URL:https://kendo.ch/event/iaido-seminar-staefa-maennerdorf/
LOCATION:Doppelturnhalle Hasenacker\, Glärnischstrasse 233\, 8708 Männedorf\, Doppelturnhalle Hasenacker\, Glärnischstrasse 233\,\, Männedorf\, 8708\, Schweiz
CATEGORIES:Iaido,Seminar
ATTACH;FMTTYPE=image/png:https://kendo.ch/wp-content/uploads/2022/10/Screenshot-2022-10-25-204302.png
END:VEVENT
BEGIN:VEVENT
DTSTART;TZID=UTC:20230121T093000
DTEND;TZID=UTC:20230122T160000
DTSTAMP:20260422T102255
CREATED:20220926T173508Z
LAST-MODIFIED:20220926T173508Z
UID:1786-1674293400-1674403200@kendo.ch
SUMMARY:Jodo Seminar with Beat Bähler Sensei
DESCRIPTION:Jodo Seminar Bern 21.& 22. January 2023 \n• Lead:  Beat Bähler\, Jodo Renshi 6 Dan\n• Where:  Gymnastic hall Wankdorf\, Morgartenstrasse 2\, 3014 Bern\n• Program: Sa. 9.30h – 17.30h\, Sun. 9.00h – 16.00h\n✓ Tandoku & Sotai Doza\n✓ ZNKR-Jodo all 12 Kata\n✓ Shinto Muso Ryu Jodo Omote\, Chudan\n✓ Uchida Ryu Tanjo Jutsu\n• Cost: 1 day 40.-\, 2 days 70.-\n• Register:  Whats app +41 78766 06 96 or b-baehler@bluewin.ch\n• Evening dinner in the restaurant on Saturday will be organized\nBring your sandwiches for lunch breaks\, Coffee and soft drinks availiable\nI will be so happy to have a lot of fun and serious training ….\n……..and see you all again\nBeat
URL:https://kendo.ch/event/jodo-seminar-with-beat-baehler-sensei/
LOCATION:Sekundarschule Wankdorf\, Morgartenstrasse 2\, Bern\, 3014\, Schweiz
CATEGORIES:Jodo,Seminar
ATTACH;FMTTYPE=image/png:https://kendo.ch/wp-content/uploads/2022/09/Beat-Logo.png
END:VEVENT
END:VCALENDAR