BEGIN:VCALENDAR
VERSION:2.0
PRODID:-//SKI Official site for kendo, iaido and jodo in Switzerland - ECPv6.15.20//NONSGML v1.0//EN
CALSCALE:GREGORIAN
METHOD:PUBLISH
X-ORIGINAL-URL:https://kendo.ch
X-WR-CALDESC:Veranstaltungen für SKI Official site for kendo, iaido and jodo in Switzerland
REFRESH-INTERVAL;VALUE=DURATION:PT1H
X-Robots-Tag:noindex
X-PUBLISHED-TTL:PT1H
BEGIN:VTIMEZONE
TZID:Europe/Berlin
BEGIN:DAYLIGHT
TZOFFSETFROM:+0100
TZOFFSETTO:+0200
TZNAME:CEST
DTSTART:20240331T010000
END:DAYLIGHT
BEGIN:STANDARD
TZOFFSETFROM:+0200
TZOFFSETTO:+0100
TZNAME:CET
DTSTART:20241027T010000
END:STANDARD
BEGIN:DAYLIGHT
TZOFFSETFROM:+0100
TZOFFSETTO:+0200
TZNAME:CEST
DTSTART:20250330T010000
END:DAYLIGHT
BEGIN:STANDARD
TZOFFSETFROM:+0200
TZOFFSETTO:+0100
TZNAME:CET
DTSTART:20251026T010000
END:STANDARD
BEGIN:DAYLIGHT
TZOFFSETFROM:+0100
TZOFFSETTO:+0200
TZNAME:CEST
DTSTART:20260329T010000
END:DAYLIGHT
BEGIN:STANDARD
TZOFFSETFROM:+0200
TZOFFSETTO:+0100
TZNAME:CET
DTSTART:20261025T010000
END:STANDARD
END:VTIMEZONE
BEGIN:VEVENT
DTSTART;TZID=Europe/Berlin:20250621T093000
DTEND;TZID=Europe/Berlin:20250621T170000
DTSTAMP:20260420T072601
CREATED:20250222T154836Z
LAST-MODIFIED:20250617T062425Z
UID:2654-1750498200-1750525200@kendo.ch
SUMMARY:Iaido Seminar mit Robert Senn\, Matthew Sykes-Gelder\, Maria Essers & Yvonne Lauper
DESCRIPTION:Ort:  Schulhaus Zentral\, Eichholzstrasse 11\, 8604 Volketswil  \nLeitung:  Robert Senn Sensei Iaido Renshi 6. Dan\, Matthew Sykes-Gelder Sensei Iaido Renshi 6. Dan\, Maria Essers Sensei Iaido 6. Dan\, Yvonne Lauper Sensei Iaido 6. Dan \nHalle Organisation:  Budo-Club Volketswil \nKosten: 25\,- SFr  (Zahlung mit TWINT möglich) \nTeilnehmer:  Alle Iaidokas von Anfänger bis Fortgeschrittenen. \nMittagessen:  Es gibt Kaffee und kalten Getränken zur Verfügung.   Bitte eure eigenes Mittagessen mitbringen. \nAnmeldung:  Alle Anmeldungen für das Training via dieser Google Formular bitte:  Formular Volketswil \nVersicherung\, Unterkunft und Verpflegung sollte jeder selbst organisieren.  Es könnten Dopingkontrollen durchgeführt werden\, weitere Informationen finden Sie hier:  Swiss Sport Integrity
URL:https://kendo.ch/event/iaido-seminar-mit-stefano-ferro-sensei-5/
LOCATION:Schulhaus Zentral\, Eichholzstrasse 11\, 8604 Volketswil\, Schulhaus Zentral\, Eichholzstrasse 11\, Volketswil\, 8604
CATEGORIES:Iaido,Seminar
ATTACH;FMTTYPE=image/png:https://kendo.ch/wp-content/uploads/2024/04/Logo-FB.png
ORGANIZER;CN="Swiss Kendo + Iaido":MAILTO:info@kendo.ch
END:VEVENT
BEGIN:VEVENT
DTSTART;TZID=Europe/Berlin:20250628T093000
DTEND;TZID=Europe/Berlin:20250628T170000
DTSTAMP:20260420T072601
CREATED:20250222T155118Z
LAST-MODIFIED:20250522T181530Z
UID:2657-1751103000-1751130000@kendo.ch
SUMMARY:Jodo Outdoor Seminar & Grill mit Katja Fleury Sensei\, Gunzwil
DESCRIPTION:Wo: Oberlehn 1\, 6222 Gunzwil \nKosten: 25.- CHF (Zahlung mit TWINT möglich) \nOrganisation: Emanuele Meyer \nTeilnehmer: Anfänger bis Fortgeschrittene \nMittagessen: Es gibt Kaffee und kalte Getränke. Bitte Mittagessen selber mitbringen. \nAbendessen: Grill. Mehr Informationen im Anmeldeformular \nAnmeldung: Bitte via folgendem Formular: Anmeldungsformular \nWICHTIG: Da es sich um ein Aussen-Seminar handelt\, wird 3 Tage vorher definitiv bekannt gegeben\, ob das Seminar wetterbedingt stattfindet. \nVersicherung\, Unterkunft und Verpflegung sollte jeder selbst organisieren. Es könnten Dopingkontrollen durchgeführt werden\, weitere Informationen finden Sie hier: Swiss Sport Integrity
URL:https://kendo.ch/event/jodo-outdoor-seminar-grill-mit-katja-fleury-sensei-gunzwil/
LOCATION:Oberlehn 1\, 6222 Gunzwil\, Oberlehn 1\, Gunzwil\, 6222\, Switzerland
CATEGORIES:Jodo,Seminar
ORGANIZER;CN="Swiss Kendo + Iaido":MAILTO:info@kendo.ch
END:VEVENT
END:VCALENDAR