BEGIN:VCALENDAR
VERSION:2.0
PRODID:-//SKI Official site for kendo, iaido and jodo in Switzerland - ECPv6.15.20//NONSGML v1.0//EN
CALSCALE:GREGORIAN
METHOD:PUBLISH
X-ORIGINAL-URL:https://kendo.ch
X-WR-CALDESC:Veranstaltungen für SKI Official site for kendo, iaido and jodo in Switzerland
REFRESH-INTERVAL;VALUE=DURATION:PT1H
X-Robots-Tag:noindex
X-PUBLISHED-TTL:PT1H
BEGIN:VTIMEZONE
TZID:UTC
BEGIN:STANDARD
TZOFFSETFROM:+0000
TZOFFSETTO:+0000
TZNAME:UTC
DTSTART:20220101T000000
END:STANDARD
END:VTIMEZONE
BEGIN:VEVENT
DTSTART;VALUE=DATE:20230624
DTEND;VALUE=DATE:20230626
DTSTAMP:20260420T224507
CREATED:20220517T192059Z
LAST-MODIFIED:20220517T192059Z
UID:1718-1687564800-1687737599@kendo.ch
SUMMARY:Swiss Open Jodo Seminar & Taikai
DESCRIPTION:
URL:https://kendo.ch/event/swiss-open-jodo-seminar-taikai/
LOCATION:Universität Bern\, Bremgartenstrasse 145\, Bern\, 3012
CATEGORIES:Championship,Grading,Jodo,Seminar,Taikai
ORGANIZER;CN="Swiss Kendo + Iaido":MAILTO:info@kendo.ch
END:VEVENT
END:VCALENDAR